Workbook
Name а: Лист4!$H$3
Name а1: Лист4!$AJ$3:$AJ$28
Name а2: Лист4!$BK$3:$BK$4
Name б: Лист4!$I$3:$I$14
Name б1: Лист4!$AK$3
Name в: Лист4!$J$3:$J$26
Name в2: Лист4!$BL$3:$BL$7
Name г: Лист4!$K$3:$K$9
Name г1: Лист4!$AL$3
Name г2: Лист4!$BM$3
Name д: Лист4!$L$3:$L$4
Name д1: Лист4!$AM$3
Name д2: Лист4!$BN$3:$BN$5
Name е: Лист4!$M$3:$M$7
Name е1: Лист4!$AN$3:$AN$5
Name е2: Лист4!$BO$3:$BO$5
Name ж: Лист4!$N$3
Name ж1: Лист4!$AO$3:$AO$9
Name ж2: Лист4!$BP$3:$BP$7
Name з: Лист4!$O$3
Name з1: Лист4!$AP$3
Name з2: Лист4!$BQ$3
Name и: Лист4!$P$3:$P$12
Name и1: Лист4!$AQ$3
Name к: Лист4!$Q$3:$Q$4
Name к1: Лист4!$AR$3:$AR$5
Name л: Лист4!$R$3:$R$8
Name л1: Лист4!$AS$3:$AS$16
Name л2: Лист4!$BR$3
Name м: Лист4!$S$3:$S$7
Name м1: Лист4!$AT$3:$AT$5
Name м2: Лист4!$BS$3:$BS$18
Name н: Лист4!$T$3
Name н1: Лист4!$AU$3:$AU$4
Name н2: Лист4!$BT$3:$BT$5
Name о: Лист4!$U$3:$U$5
Name о1: Лист4!$AV$3:$AV$11
Name о2: Лист4!$BU$3:$BU$4
Name п: Лист4!$V$3:$V$4
Name п1: Лист4!$AW$3:$AW$6
Name п2: Лист4!$BV$3:$BV$27
Name р: Лист4!$W$3:$W$28
Name р1: Лист4!$AX$3:$AX$5
Name р2: Лист4!$BW$3:$BW$4
Name с: Лист4!$X$3
Name с1: Лист4!$AY$3
Name с2: Лист4!$BX$3:$BX$5
Name т: Лист4!$Y$3
Name т1: Лист4!$AZ$3:$AZ$4
Name т2: Лист4!$BY$3
Name у: Лист4!$Z$3
Name у1: Лист4!$BA$3:$BA$6
Name у2: Лист4!$BZ$3:$BZ$17
Name ф: Лист4!$AA$3
Name ф1: Лист4!$BB$3:$BB$18
Name ф2: Лист4!$CA$3:$CA$4
Name х: Лист4!$AB$3:$AB$21
Name х1: Лист4!$BC$3:$BC$4
Name х2: Лист4!$CB$3:$CB$9
Name ц: Лист4!$AC$3

Sheet Лист2
A1: ДЕКЛАРАЦИЯ
A2: о фактических значениях годовых удельных величин расхода энергетических ресурсов
A4: управляющая организация: | E4: ООО "Управляшка"
A6: адрес многоквартирного дома: | E6: ЛенинградскаЯ область, г. С-Петербург, ул. Питерская, д. 1
A8: дата начала периода, за который представляется декларация: | H8: 42917
A9: дата окончания периода, за который представляется декларация: | H9: 43281
A11: класс энергетической эффективности многоквартирного дома | H11: не присвоен
A12: дата его присвоения класса энергетической эффективности многоквартирного дома | H12: ---
A13: наличие табюлички указателя класса ЭЭ на фасаде МКД | H13: нет
B15: Величина отклонения фактических значений показателя удельного годового расхода энергетических ресурсов | G15: =ROUND(G98/G85*100-100,2) -> -45.69 | H15: %
B16: КЛАСС ЭНЕРГЕТИЧЕСКОЙ ЭФФЕКТИВНОСТИ | G16: =IF(G15<=-60,"А++",IF(AND(G15>-60,G15<=-50),"А+",IF(AND(G15>-50,G15<=-40),"А",IF(AND(G15>-40,G15<=-30),"В",IF(AND(G15>-30,G15<=-15),"С",IF(AND(G15>-15,G15<=0),"D",IF(AND(G15>0,G15<=25),"E",IF(AND(G15>25,G15<=50),"F",IF(G15>50,"G"))))))))) -> А | H16: =VLOOKUP(G16,Лист3!A4:B12,2,FALSE) -> Очень высокий
A18: Основные характеристики многоквартирного дома:
A19: 1 | B19: Регион | G19: Ленинградская область
A20: 2 | B20: Начеленный пункт (ближайший) | G20: Санкт-Петербург | H20: ='ГОСП баз'!B1 -> 4536.9
A21: 3 | B21: Год ввода в эксплуатацию(капремонта) | G21: 1934 | H21: тех.паспорт МКД
A22: 4 | B22: Площадь жилых помещений, м2 | G22: 4500 | H22: тех.паспорт МКД
A23: 5 | B23: Площадь мест общего пользования, м2 | G23: 500 | H23: тех.паспорт МКД
A24: 6 | B24: Этажность (усредненная) | G24: 7 | H24: тех.паспорт МКД
A25: 7 | B25: Количество подъездов | G25: 5 | H25: тех.паспорт МКД
A26: 8 | B26: Количество квартир | G26: 105 | H26: тех.паспорт МКД
A27: 9 | B27: Количество проживающих, чел | G27: 260 | H27: тех.паспорт МКД
A28: 10 | B28: Наличие ИТП с функцией автоматического регулирования температуры теплоносителя | G28: нет | H28: тех.паспорт МКД
A29: 11 | B29: Наличие энергоэффективного (светодиодного) освещения мест общего пользования | G29: нет | H29: тех.паспорт МКД
A30: 12 | B30: Наличие лифта | G30: есть | H30: тех.паспорт МКД
A31: 13 | B31: Тип (по уровню комфорта) | G31: социальный | H31: тех.паспорт МКД | I31: 20 | J31: 45
A32: 14 | B32: Плотность заселения | G32: =IF(G31="эконом-класс",30,IF(G31="бизнес-класс",40,IF(G31="социальный",20))) -> 20 | I32: 17 | J32: 10
A33: 15 | B33: Удельные бытовые внутренние теплопоступления, Вт/м2 | G33: =J32+(J31-G32)*(I32-J32)/(J31-I31) -> 17 | I33: =G33-17 -> 0 | J33: =-I33 -> 0
A35: Фактические показатели
A36: 1 | B36: Начало отопительного периода | F36: 43003 | H36: =F37-F36 -> 221
A37: 2 | B37: Окончание отопительного периода | F37: 43224 | H37: =H36+1 -> 222
A38: 3 | B38: Средняя температура наружного воздуха в течение отопительного периода, °С | F38: -10 | G38: информационный ресурс http://rp5.ru/
A39: 4 | B39: Средняя температура в жилых помещениях в течение отопительного периода, °С | F39: 20 | H39: =(F39-F38)*H37 -> 6660
A40: 5 | B40: Показания ОДПУ тепловой энергии на начало отчетного периода (включая ГВС), Гкал | F40: 25 | G40: ВКТ-7 с/н 00561586 | H40: =(F41-F40)/0.0008598 -> 697002.79
A41: 6 | B41: Показания ОДПУ тепловой энергии на конец отчетного периода (включая ГВС), Гкал | F41: =F40+599.283 -> 624.283 | G41: дата поверки 20.04.2022 | H41: =H40/G22 -> 154.88951
A42: 7 | B42: Показания ПУ эл/энергии (общедомовые нужды) на начало отчетного периода, кВт | F42: 1000 | G42: Меркурий 301.1 с/н 568984
A43: 8 | B43: Показания ПУ эл/энергии (общедомовые нужды) на конец отчетного периода, кВт | F43: 11905.6 | G43: дата поверки 31.01.2024
A44: Расчет значения годовых удельных величин расхода энергетических ресурсов
B45: Период со средней суточной температурой воздуха < 8°С
A46: 1 | B46: Продолжительность, сут | F46: =VLOOKUP(G20,Лист4!A7:C541,2,FALSE) -> 213 | G46: СП 131.13300
A47: 2 | B47: Средняя температура воздуха, °С | F47: =VLOOKUP(G20,Лист4!A7:C541,3,FALSE) -> -1.3 | G47: =G46 -> СП 131.13300 | H47: =-F47 -> 1.3
A48: 3 | B48: Базовая средняя температура внутреннего воздуха в помещениях, °С | F48: 20
A49: 4 | B49: °С сут. отопит. периода (ГСОП) | F49: ="("&F48&IF(F47<0," + "&H47&")x"&F46&"= "&G49," - "&F47&")x"&F46&"= "&G49) -> (20 + 1,3)x213= 4536,9 | G49: =H20 -> 4536.9
A50: 5 | B50: Этажность жилого дома | F50: =G24 -> 7
A51: 6 | B51: базовый уровень удельного годового расхода электрической энергии на общедомовые нужды
B52: =IF(G30="есть",10,7) -> 10 | C52: кВт ч/м2
A53: 7 | B53: Расход тепловой энергии на отопление, вентиляцию, горячее водоснабжение и электроэнергии на общедомовые нужды
B54: ='ГОСП баз'!D4 -> 231,5+ (4536,9 - 4000)x(253,5 - 231,5)/(5000 - 4000)=321,16 кВтч/м2 | G54: ='ГОСП баз'!A4 -> 321.16
B55: в том числе тепловой энергии на отопление и вентиляцию
B56: ='ГОСП баз'!D5 -> 86,5+ (4536,9 - 4000)x(108,5 - 86,5)/(5000 - 4000)=98,31 кВтч/м2 | G56: ='ГОСП баз'!B4 -> 98.31
A57: 8 | B57: учет плотности заселения, удельных бытовых внутренних теплопоступлений | G57: СП 50.13330
B58: =J32&"+("&J31&" - "&G32&")x("&I32&" - "&J32&")/("&J31&" - "&I31&")= "&G33&" "&H33 -> 10+(45 - 20)x(17 - 10)/(45 - 20)= 17
B59: =G33&" - 17 = "&I33&" "&H33 -> 17 - 17 = 0 | E59: =I33*0.024 -> 0 | F59: кВтч/м2
A60: =B53 -> Расход тепловой энергии на отопление, вентиляцию, горячее водоснабжение и электроэнергии на общедомовые нужды | G60: =F59 -> кВтч/м2 | H60: =ROUND(G54+I33*0.024,2) -> 321.16
A61: =B55 -> в том числе тепловой энергии на отопление и вентиляцию | G61: =F59 -> кВтч/м2 | H61: =ROUND(G56+I33*0.024,2) -> 98.31
A62: фактические условия, используемые для приведения к расчетным
A63: 1 | B63: климатические условия периода представления декларации
C64: средняя температура окружающего воздуха | G64: =F38 -> -10 | H64: °С
C65: продолжительность периода отопления | G65: =F37-F36 -> 221 | H65: дни
A66: 2 | B66: средняя температура внутреннего воздуха в помещениях | G66: =F39 -> 20 | H66: °С | I66: 20 | J66: 45
A67: 3 | B67: плотность заселения | G67: =ROUND(G22/G27,1) -> 17.3 | H67: м2 | I67: 17 | J67: 10
A68: 4 | B68: Удельные бытовые внутренние теплопоступления | G68: =J67+(J66-G67)*(I67-J67)/(J66-I66) -> 17.756 | H68: Вт/м2 | I68: =ROUND(G68-17,2) -> 0.76 | J68: =-I68 -> -0.76
A69: 5 | B69: качество коммунальных услуг | G69: без нарушений
A70: Расчет приведения полученных значений к расчетным условиям
A71: 1 | B71: =C65 -> продолжительность периода отопления | F71: =G65 -> 221
A72: 2 | B72: =C64 -> средняя температура окружающего воздуха | F72: =G64 -> -10 | H72: =-F72 -> 10
A73: 3 | B73: учет климатических условий периода предоставления декларации | F73: =G66 -> 20
B74: °С сут. отопит. периода (ГСОП) | F74: ="("&F73&IF(F72<0," + "&H72&")x"&F71&"= "&G74," - "&F72&")x"&F71&"= "&G74) -> (20 + 10)x221= 6630 | G74: =(F73-F72)*F71 -> 6630
B75: базовый уровень удельного годового расхода электрической энергии на общедомовые нужды
B76: =IF(G30="есть",10,7) -> 10 | C76: кВт ч/м2
A77: 4 | B77: Расход тепловой энергии на отопление, вентиляцию, горячее водоснабжение и электроэнергии на общедомовые нужды
B78: ='ГОСП баз (2)'!D4 -> 275+ (6630 - 6000)x(321,5 - 275)/(8000 - 6000)=289,65 кВтч/м2 | G78: ='ГОСП баз (2)'!A4 -> 289.65
B79: в том числе тепловой энергии на отопление и вентиляцию
B80: ='ГОСП баз (2)'!D5 -> 130+ (6630 - 6000)x(164,5 - 130)/(8000 - 6000)=140,87 кВтч/м2 | G80: ='ГОСП баз (2)'!B4 -> 140.87
A81: 5 | B81: учет плотности заселения, удельных бытовых внутренних теплопоступлений
B82: =J32&"+("&J31&" - "&G67&")x("&I32&" - "&J32&")/("&J31&" - "&I31&")= "&G68&" "&H33 -> 10+(45 - 17,3)x(17 - 10)/(45 - 20)= 17,756
B83: =G68&" - 17 = "&I68&" "&H33 -> 17,756 - 17 = 0,76 | E83: =I68*0.024 -> 0.01824 | F83: кВтч/м2
B84: БАЗОВЫЙ УРОВЕНЬ УДЕЛЬНОГО ГОДОВОГО РАСХОДА ЭНЕРГЕТИЧЕСКИХ РЕСУРСОВ В МНОГОКВАРТИРНОМ ДОМЕ
B85: =B77 -> Расход тепловой энергии на отопление, вентиляцию, горячее водоснабжение и электроэнергии на общедомовые нужды | G85: =ROUND(G78+E83,2) -> 289.67 | H85: =F83 -> кВтч/м2
B86: =B79 -> в том числе тепловой энергии на отопление и вентиляцию | G86: =ROUND(G80+E83,2) -> 140.89 | H86: =F83 -> кВтч/м2
B87: (значения приняты за базовые)
A88: расчет значения годовых удельных величин расхода энергетических ресурсов (фактические)
B89: Период со средней суточной температурой воздуха < 8°С (отопительный)
A90: 1 | B90: Продолжительность, сут | F90: =H37 -> 222
A91: 2 | B91: Средняя температура воздуха, °С | F91: =F38 -> -10 | H91: =-F91 -> 10
A92: 3 | B92: Базовая средняя температура внутреннего воздуха в помещениях, °С | F92: =F73 -> 20
A93: 4 | B93: Расход тепловой энергии годовой (по показаниям ОДПУ), Гкал | F93: =F41-F40 -> 599.283
C94: перевод в кВтч/м2 | E94: =F93&"/(0,0008598x"&G22&") = "&F94 -> 599,283/(0,0008598x4500) = 154,89 | F94: =ROUND((F93/0.0008598)/G22,2) -> 154.89 | G94: кВтч/м2
A95: 5 | B95: Расход электроэнергии на общедомовые нужды, кВтч | F95: =F43-F42 -> 10905.6
C96: перевод в кВтч/м2 | E96: =F95&"/"&G22&" = "&F96 -> 10905,6/4500 = 2,42 | F96: =ROUND(F95/G22,2) -> 2.42 | G96: =G94 -> кВтч/м2
B97: ФАКТИЧЕСКИЙ УРОВЕНЬ УДЕЛЬНОГО ГОДОВОГО РАСХОДА ЭНЕРГЕТИЧЕСКИХ РЕСУРСОВ В МНОГОКВАРТИРНОМ ДОМЕ
B98: =B85 -> Расход тепловой энергии на отопление, вентиляцию, горячее водоснабжение и электроэнергии на общедомовые нужды | G98: =F94+F96 -> 157.31 | H98: =H85 -> кВтч/м2
B99: =B86 -> в том числе тепловой энергии на отопление и вентиляцию | G99: =F94 -> 154.89 | H99: =H86 -> кВтч/м2

Sheet ГОСП баз
A1: ГСОП | B1: =VLOOKUP(Лист2!G20,Лист4!A7:D541,4,FALSE) -> 4536.9 | D1: =IF(AND(B1>=2000,B1<3000),2000,IF(AND(B1>=3000,B1<4000),3000)) -> FALSE | E1: =IF(AND(B1>=4000,B1<5000),4000,IF(AND(B1>=5000,B1<6000),5000)) -> 4000 | F1: =IF(AND(B1>=6000,B1<8000),6000,IF(AND(B1>=8000,B1<=10000),8000)) -> FALSE | H1: =SUM(D1:F1) -> 4000
A2: этаж | B2: =Лист2!G24 -> 7 | D2: =IF(AND($B$1>=2000,$B$1<3000),3000,IF(AND($B$1>=3000,$B$1<4000),4000)) -> FALSE | E2: =IF(AND($B$1>=4000,$B$1<5000),5000,IF(AND($B$1>=5000,$B$1<6000),6000)) -> 5000 | F2: =IF(AND($B$1>=6000,$B$1<8000),8000,IF(AND($B$1>=8000,$B$1<=10000),10000)) -> FALSE | H2: =SUM(D2:F2) -> 5000
A4: =ROUND(I26+(B1-H1)/(H2-H1)*(I43-J26),2) -> 321.16 | B4: =ROUND(J26+(B1-H1)/(H2-H1)*(J43-J26),2) -> 98.31 | D4: =I26&"+ ("&B1&" - "&H1&")x("&I43&" - "&I26&")/("&H2&" - "&H1&")="&A4&" кВтч/м2" -> 231,5+ (4536,9 - 4000)x(253,5 - 231,5)/(5000 - 4000)=321,16 кВтч/м2
D5: =J26&"+ ("&B1&" - "&H1&")x("&J43&" - "&J26&")/("&H2&" - "&H1&")="&B4&" кВтч/м2" -> 86,5+ (4536,9 - 4000)x(108,5 - 86,5)/(5000 - 4000)=98,31 кВтч/м2
A7: БАЗОВЫЙ УРОВЕНЬ УДЕЛЬНОГО ГОДОВОГО РАСХОДА ЭНЕРГЕТИЧЕСКИХ РЕСУРСОВ В МНОГОКВАРТИРНОМ ДОМЕ, ОТРАЖАЮЩИЙ СУММАРНЫЙ УДЕЛЬНЫЙ ГОДОВОЙ РАСХОД ТЕПЛОВОЙ ЭНЕРГИИ НА ОТОПЛЕНИЕ, ВЕНТИЛЯЦИЮ, ГОРЯЧЕЕ ВОДОСНАБЖЕНИЕ, А ТАКЖЕ НА ОБЩЕДОМОВЫЕ НУЖДЫ, МНОГОКВАРТИРНЫХ ЖИЛЫХ ДОМОВ, кВт ч/м2
A9: Наименование показателя | B9: °С сут. отопит. периода | C9: Этажность многоквартирного дома
C10: 2 | D10: 3 | E10: 4 | F10: 5 | G10: 6 | H10: 7 | I10: 8 | J10: 9 | K10: 10 | L10: 11 | M10: 12 эт.
A11: Расход тепловой энергии на отопление, вентиляцию, горячее водоснабжение и электроэнергии на общедомовые нужды <*> | B11: 2000 | C11: 215 | D11: =E11+(3-2)*(C11-E11)/(4-2) -> 210.5 | E11: 206 | F11: =G11+(5-4)*(E11-G11)/(6-4) -> 204.5 | G11: 203 | H11: =I11+(7-6)*(G11-I11)/(8-6) -> 202 | I11: 201 | J11: =K11+(9-8)*(I11-K11)/(10-8) -> 200 | K11: 199 | L11: =M11+(11-10)*(K11-M11)/(12-10) -> 198.5 | M11: 198
B12: 3000 | C12: 228 | D12: =E12+(3-2)*(C12-E12)/(4-2) -> 222 | E12: 216 | F12: =G12+(5-4)*(E12-G12)/(6-4) -> 214 | G12: 212 | H12: =I12+(7-6)*(G12-I12)/(8-6) -> 210 | I12: 208 | J12: =K12+(9-8)*(I12-K12)/(10-8) -> 206.5 | K12: 205 | L12: =M12+(11-10)*(K12-M12)/(12-10) -> 204 | M12: 203
B13: 4000 | C13: 256 | D13: =E13+(3-2)*(C13-E13)/(4-2) -> 247.5 | E13: 239 | F13: =G13+(5-4)*(E13-G13)/(6-4) -> 236.5 | G13: 234 | H13: =I13+(7-6)*(G13-I13)/(8-6) -> 231.5 | I13: 229 | J13: =K13+(9-8)*(I13-K13)/(10-8) -> 227 | K13: 225 | L13: =M13+(11-10)*(K13-M13)/(12-10) -> 224 | M13: 223
B14: 5000 | C14: 284 | D14: =E14+(3-2)*(C14-E14)/(4-2) -> 273.5 | E14: 263 | F14: =G14+(5-4)*(E14-G14)/(6-4) -> 259.5 | G14: 256 | H14: =I14+(7-6)*(G14-I14)/(8-6) -> 253.5 | I14: 251 | J14: =K14+(9-8)*(I14-K14)/(10-8) -> 248 | K14: 245 | L14: =M14+(11-10)*(K14-M14)/(12-10) -> 243.5 | M14: 242
B15: 6000 | C15: 312 | D15: =E15+(3-2)*(C15-E15)/(4-2) -> 299.5 | E15: 287 | F15: =G15+(5-4)*(E15-G15)/(6-4) -> 282.5 | G15: 278 | H15: =I15+(7-6)*(G15-I15)/(8-6) -> 275 | I15: 272 | J15: =K15+(9-8)*(I15-K15)/(10-8) -> 268.5 | K15: 265 | L15: =M15+(11-10)*(K15-M15)/(12-10) -> 263.5 | M15: 262
B16: 8000 | C16: 370 | D16: =E16+(3-2)*(C16-E16)/(4-2) -> 353.5 | E16: 337 | F16: =G16+(5-4)*(E16-G16)/(6-4) -> 331.5 | G16: 326 | H16: =I16+(7-6)*(G16-I16)/(8-6) -> 321.5 | I16: 317 | J16: =K16+(9-8)*(I16-K16)/(10-8) -> 312.5 | K16: 308 | L16: =M16+(11-10)*(K16-M16)/(12-10) -> 306 | M16: 304
B17: 10000 | C17: 426 | D17: =E17+(3-2)*(C17-E17)/(4-2) -> 405 | E17: 384 | F17: =G17+(5-4)*(E17-G17)/(6-4) -> 377 | G17: 370 | H17: =I17+(7-6)*(G17-I17)/(8-6) -> 364.5 | I17: 359 | J17: =K17+(9-8)*(I17-K17)/(10-8) -> 353.5 | K17: 348 | L17: =M17+(11-10)*(K17-M17)/(12-10) -> 345 | M17: 342
A18: в том числе тепловой энергии на отопление и вентиляцию | B18: 2000 | C18: 67 | D18: =E18+(3-2)*(C18-E18)/(4-2) -> 61.5 | E18: 56 | F18: =G18+(5-4)*(E18-G18)/(6-4) -> 50 | G18: 44 | H18: =I18+(7-6)*(G18-I18)/(8-6) -> 43 | I18: 42 | J18: =K18+(9-8)*(I18-K18)/(10-8) -> 41 | K18: 40 | L18: =M18+(11-10)*(K18-M18)/(12-10) -> 39.5 | M18: 39
B19: 3000 | C19: 100 | D19: =E19+(3-2)*(C19-E19)/(4-2) -> 91.5 | E19: 83 | F19: =G19+(5-4)*(E19-G19)/(6-4) -> 75 | G19: 67 | H19: =I19+(7-6)*(G19-I19)/(8-6) -> 65 | I19: 63 | J19: =K19+(9-8)*(I19-K19)/(10-8) -> 61.5 | K19: 60 | L19: =M19+(11-10)*(K19-M19)/(12-10) -> 59 | M19: 58
B20: 4000 | C20: 133 | D20: =E20+(3-2)*(C20-E20)/(4-2) -> 122 | E20: 111 | F20: =G20+(5-4)*(E20-G20)/(6-4) -> 100 | G20: 89 | H20: =I20+(7-6)*(G20-I20)/(8-6) -> 86.5 | I20: 84 | J20: =K20+(9-8)*(I20-K20)/(10-8) -> 82 | K20: 80 | L20: =M20+(11-10)*(K20-M20)/(12-10) -> 79 | M20: 78
B21: 5000 | C21: 167 | D21: =E21+(3-2)*(C21-E21)/(4-2) -> 153 | E21: 139 | F21: =G21+(5-4)*(E21-G21)/(6-4) -> 125 | G21: 111 | H21: =I21+(7-6)*(G21-I21)/(8-6) -> 108.5 | I21: 106 | J21: =K21+(9-8)*(I21-K21)/(10-8) -> 103 | K21: 100 | L21: =M21+(11-10)*(K21-M21)/(12-10) -> 98.5 | M21: 97
B22: 6000 | C22: 200 | D22: =E22+(3-2)*(C22-E22)/(4-2) -> 183.5 | E22: 167 | F22: =G22+(5-4)*(E22-G22)/(6-4) -> 150 | G22: 133 | H22: =I22+(7-6)*(G22-I22)/(8-6) -> 130 | I22: 127 | J22: =K22+(9-8)*(I22-K22)/(10-8) -> 123.5 | K22: 120 | L22: =M22+(11-10)*(K22-M22)/(12-10) -> 118.5 | M22: 117
B23: 8000 | C23: 253 | D23: =E23+(3-2)*(C23-E23)/(4-2) -> 232 | E23: 211 | F23: =G23+(5-4)*(E23-G23)/(6-4) -> 190 | G23: 169 | H23: =I23+(7-6)*(G23-I23)/(8-6) -> 164.5 | I23: 160 | J23: =K23+(9-8)*(I23-K23)/(10-8) -> 156 | K23: 152 | L23: =M23+(11-10)*(K23-M23)/(12-10) -> 150 | M23: 148
B24: 10000 | C24: 317 | D24: =E24+(3-2)*(C24-E24)/(4-2) -> 290.5 | E24: 264 | F24: =G24+(5-4)*(E24-G24)/(6-4) -> 237.5 | G24: 211 | H24: =I24+(7-6)*(G24-I24)/(8-6) -> 206 | I24: 201 | J24: =K24+(9-8)*(I24-K24)/(10-8) -> 195.5 | K24: 190 | L24: =M24+(11-10)*(K24-M24)/(12-10) -> 187.5 | M24: 185
A26: Наименование показателя | B26: °С сут. отопит. периода | C26: МИНИМУМ | I26: =IF(Лист2!B52=10,SUM(C28:M34),SUM(C28:M34)-3) -> 231.5 | J26: =IF(Лист2!B52=10,SUM(C35:M41),SUM(C35:M41)-3) -> 86.5
C27: 2 | D27: 3 | E27: 4 | F27: 5 | G27: 6 | H27: 7 | I27: 8 | J27: 9 | K27: 10 | L27: 11 | M27: 12
A28: Расход тепловой энергии на отопление, вентиляцию, горячее водоснабжение и электроэнергии на общедомовые нужды <*> | B28: 2000 | C28: =IF(AND($B$2=$C$27,$H$1=B28),C11,0) -> 0 | D28: =IF(AND($B$2=$D$27,$H$1=B28),D11,0) -> 0 | E28: =IF(AND($B$2=$E$27,$H$1=B28),E11,0) -> 0 | F28: =IF(AND($B$2=$F$27,$H$1=B28),F11,0) -> 0 | G28: =IF(AND($B$2=$G$27,$H$1=B28),G11,0) -> 0 | H28: =IF(AND($B$2=$H$27,$H$1=B28),H11,0) -> 0 | I28: =IF(AND($B$2=$I$27,$H$1=B28),I11,0) -> 0 | J28: =IF(AND($B$2=$J$27,$H$1=B28),J11,0) -> 0 | K28: =IF(AND($B$2=$K$27,$H$1=B28),K11,0) -> 0 | L28: =IF(AND($B$2=$L$27,$H$1=B28),L11,0) -> 0 | M28: =IF(AND($B$2>=$M$27,$H$1=B28),M11,0) -> 0
B29: 3000 | C29: =IF(AND($B$2=$C$27,$H$1=B29),C12,0) -> 0 | D29: =IF(AND($B$2=$D$27,$H$1=B29),D12,0) -> 0 | E29: =IF(AND($B$2=$E$27,$H$1=B29),E12,0) -> 0 | F29: =IF(AND($B$2=$F$27,$H$1=B29),F12,0) -> 0 | G29: =IF(AND($B$2=$G$27,$H$1=B29),G12,0) -> 0 | H29: =IF(AND($B$2=$H$27,$H$1=B29),H12,0) -> 0 | I29: =IF(AND($B$2=$I$27,$H$1=B29),I12,0) -> 0 | J29: =IF(AND($B$2=$J$27,$H$1=B29),J12,0) -> 0 | K29: =IF(AND($B$2=$K$27,$H$1=B29),K12,0) -> 0 | L29: =IF(AND($B$2=$L$27,$H$1=B29),L12,0) -> 0 | M29: =IF(AND($B$2>=$M$27,$H$1=B29),M12,0) -> 0
B30: 4000 | C30: =IF(AND($B$2=$C$27,$H$1=B30),C13,0) -> 0 | D30: =IF(AND($B$2=$D$27,$H$1=B30),D13,0) -> 0 | E30: =IF(AND($B$2=$E$27,$H$1=B30),E13,0) -> 0 | F30: =IF(AND($B$2=$F$27,$H$1=B30),F13,0) -> 0 | G30: =IF(AND($B$2=$G$27,$H$1=B30),G13,0) -> 0 | H30: =IF(AND($B$2=$H$27,$H$1=B30),H13,0) -> 231.5 | I30: =IF(AND($B$2=$I$27,$H$1=B30),I13,0) -> 0 | J30: =IF(AND($B$2=$J$27,$H$1=B30),J13,0) -> 0 | K30: =IF(AND($B$2=$K$27,$H$1=B30),K13,0) -> 0 | L30: =IF(AND($B$2=$L$27,$H$1=B30),L13,0) -> 0 | M30: =IF(AND($B$2>=$M$27,$H$1=B30),M13,0) -> 0
B31: 5000 | C31: =IF(AND($B$2=$C$27,$H$1=B31),C14,0) -> 0 | D31: =IF(AND($B$2=$D$27,$H$1=B31),D14,0) -> 0 | E31: =IF(AND($B$2=$E$27,$H$1=B31),E14,0) -> 0 | F31: =IF(AND($B$2=$F$27,$H$1=B31),F14,0) -> 0 | G31: =IF(AND($B$2=$G$27,$H$1=B31),G14,0) -> 0 | H31: =IF(AND($B$2=$H$27,$H$1=B31),H14,0) -> 0 | I31: =IF(AND($B$2=$I$27,$H$1=B31),I14,0) -> 0 | J31: =IF(AND($B$2=$J$27,$H$1=B31),J14,0) -> 0 | K31: =IF(AND($B$2=$K$27,$H$1=B31),K14,0) -> 0 | L31: =IF(AND($B$2=$L$27,$H$1=B31),L14,0) -> 0 | M31: =IF(AND($B$2>=$M$27,$H$1=B31),M14,0) -> 0
B32: 6000 | C32: =IF(AND($B$2=$C$27,$H$1=B32),C15,0) -> 0 | D32: =IF(AND($B$2=$D$27,$H$1=B32),D15,0) -> 0 | E32: =IF(AND($B$2=$E$27,$H$1=B32),E15,0) -> 0 | F32: =IF(AND($B$2=$F$27,$H$1=B32),F15,0) -> 0 | G32: =IF(AND($B$2=$G$27,$H$1=B32),G15,0) -> 0 | H32: =IF(AND($B$2=$H$27,$H$1=B32),H15,0) -> 0 | I32: =IF(AND($B$2=$I$27,$H$1=B32),I15,0) -> 0 | J32: =IF(AND($B$2=$J$27,$H$1=B32),J15,0) -> 0 | K32: =IF(AND($B$2=$K$27,$H$1=B32),K15,0) -> 0 | L32: =IF(AND($B$2=$L$27,$H$1=B32),L15,0) -> 0 | M32: =IF(AND($B$2>=$M$27,$H$1=B32),M15,0) -> 0
B33: 8000 | C33: =IF(AND($B$2=$C$27,$H$1=B33),C16,0) -> 0 | D33: =IF(AND($B$2=$D$27,$H$1=B33),D16,0) -> 0 | E33: =IF(AND($B$2=$E$27,$H$1=B33),E16,0) -> 0 | F33: =IF(AND($B$2=$F$27,$H$1=B33),F16,0) -> 0 | G33: =IF(AND($B$2=$G$27,$H$1=B33),G16,0) -> 0 | H33: =IF(AND($B$2=$H$27,$H$1=B33),H16,0) -> 0 | I33: =IF(AND($B$2=$I$27,$H$1=B33),I16,0) -> 0 | J33: =IF(AND($B$2=$J$27,$H$1=B33),J16,0) -> 0 | K33: =IF(AND($B$2=$K$27,$H$1=B33),K16,0) -> 0 | L33: =IF(AND($B$2=$L$27,$H$1=B33),L16,0) -> 0 | M33: =IF(AND($B$2>=$M$27,$H$1=B33),M16,0) -> 0
B34: 10000 | C34: =IF(AND($B$2=$C$27,$H$1=B34),C17,0) -> 0 | D34: =IF(AND($B$2=$D$27,$H$1=B34),D17,0) -> 0 | E34: =IF(AND($B$2=$E$27,$H$1=B34),E17,0) -> 0 | F34: =IF(AND($B$2=$F$27,$H$1=B34),F17,0) -> 0 | G34: =IF(AND($B$2=$G$27,$H$1=B34),G17,0) -> 0 | H34: =IF(AND($B$2=$H$27,$H$1=B34),H17,0) -> 0 | I34: =IF(AND($B$2=$I$27,$H$1=B34),I17,0) -> 0 | J34: =IF(AND($B$2=$J$27,$H$1=B34),J17,0) -> 0 | K34: =IF(AND($B$2=$K$27,$H$1=B34),K17,0) -> 0 | L34: =IF(AND($B$2=$L$27,$H$1=B34),L17,0) -> 0 | M34: =IF(AND($B$2>=$M$27,$H$1=B34),M17,0) -> 0
A35: в том числе тепловой энергии на отопление и вентиляцию | B35: 2000 | C35: =IF(AND($B$2=$C$27,$H$1=B35),C18,0) -> 0 | D35: =IF(AND($B$2=$D$27,$H$1=B35),D18,0) -> 0 | E35: =IF(AND($B$2=$E$27,$H$1=B35),E18,0) -> 0 | F35: =IF(AND($B$2=$F$27,$H$1=B35),F18,0) -> 0 | G35: =IF(AND($B$2=$G$27,$H$1=B35),G18,0) -> 0 | H35: =IF(AND($B$2=$H$27,$H$1=B35),H18,0) -> 0 | I35: =IF(AND($B$2=$I$27,$H$1=B35),I18,0) -> 0 | J35: =IF(AND($B$2=$J$27,$H$1=B35),J18,0) -> 0 | K35: =IF(AND($B$2=$K$27,$H$1=B35),K18,0) -> 0 | L35: =IF(AND($B$2=$L$27,$H$1=B35),L18,0) -> 0 | M35: =IF(AND($B$2>=$M$27,$H$1=B35),M18,0) -> 0
B36: 3000 | C36: =IF(AND($B$2=$C$27,$H$1=B36),C19,0) -> 0 | D36: =IF(AND($B$2=$D$27,$H$1=B36),D19,0) -> 0 | E36: =IF(AND($B$2=$E$27,$H$1=B36),E19,0) -> 0 | F36: =IF(AND($B$2=$F$27,$H$1=B36),F19,0) -> 0 | G36: =IF(AND($B$2=$G$27,$H$1=B36),G19,0) -> 0 | H36: =IF(AND($B$2=$H$27,$H$1=B36),H19,0) -> 0 | I36: =IF(AND($B$2=$I$27,$H$1=B36),I19,0) -> 0 | J36: =IF(AND($B$2=$J$27,$H$1=B36),J19,0) -> 0 | K36: =IF(AND($B$2=$K$27,$H$1=B36),K19,0) -> 0 | L36: =IF(AND($B$2=$L$27,$H$1=B36),L19,0) -> 0 | M36: =IF(AND($B$2>=$M$27,$H$1=B36),M19,0) -> 0
B37: 4000 | C37: =IF(AND($B$2=$C$27,$H$1=B37),C20,0) -> 0 | D37: =IF(AND($B$2=$D$27,$H$1=B37),D20,0) -> 0 | E37: =IF(AND($B$2=$E$27,$H$1=B37),E20,0) -> 0 | F37: =IF(AND($B$2=$F$27,$H$1=B37),F20,0) -> 0 | G37: =IF(AND($B$2=$G$27,$H$1=B37),G20,0) -> 0 | H37: =IF(AND($B$2=$H$27,$H$1=B37),H20,0) -> 86.5 | I37: =IF(AND($B$2=$I$27,$H$1=B37),I20,0) -> 0 | J37: =IF(AND($B$2=$J$27,$H$1=B37),J20,0) -> 0 | K37: =IF(AND($B$2=$K$27,$H$1=B37),K20,0) -> 0 | L37: =IF(AND($B$2=$L$27,$H$1=B37),L20,0) -> 0 | M37: =IF(AND($B$2>=$M$27,$H$1=B37),M20,0) -> 0
B38: 5000 | C38: =IF(AND($B$2=$C$27,$H$1=B38),C21,0) -> 0 | D38: =IF(AND($B$2=$D$27,$H$1=B38),D21,0) -> 0 | E38: =IF(AND($B$2=$E$27,$H$1=B38),E21,0) -> 0 | F38: =IF(AND($B$2=$F$27,$H$1=B38),F21,0) -> 0 | G38: =IF(AND($B$2=$G$27,$H$1=B38),G21,0) -> 0 | H38: =IF(AND($B$2=$H$27,$H$1=B38),H21,0) -> 0 | I38: =IF(AND($B$2=$I$27,$H$1=B38),I21,0) -> 0 | J38: =IF(AND($B$2=$J$27,$H$1=B38),J21,0) -> 0 | K38: =IF(AND($B$2=$K$27,$H$1=B38),K21,0) -> 0 | L38: =IF(AND($B$2=$L$27,$H$1=B38),L21,0) -> 0 | M38: =IF(AND($B$2>=$M$27,$H$1=B38),M21,0) -> 0
B39: 6000 | C39: =IF(AND($B$2=$C$27,$H$1=B39),C22,0) -> 0 | D39: =IF(AND($B$2=$D$27,$H$1=B39),D22,0) -> 0 | E39: =IF(AND($B$2=$E$27,$H$1=B39),E22,0) -> 0 | F39: =IF(AND($B$2=$F$27,$H$1=B39),F22,0) -> 0 | G39: =IF(AND($B$2=$G$27,$H$1=B39),G22,0) -> 0 | H39: =IF(AND($B$2=$H$27,$H$1=B39),H22,0) -> 0 | I39: =IF(AND($B$2=$I$27,$H$1=B39),I22,0) -> 0 | J39: =IF(AND($B$2=$J$27,$H$1=B39),J22,0) -> 0 | K39: =IF(AND($B$2=$K$27,$H$1=B39),K22,0) -> 0 | L39: =IF(AND($B$2=$L$27,$H$1=B39),L22,0) -> 0 | M39: =IF(AND($B$2>=$M$27,$H$1=B39),M22,0) -> 0
B40: 8000 | C40: =IF(AND($B$2=$C$27,$H$1=B40),C23,0) -> 0 | D40: =IF(AND($B$2=$D$27,$H$1=B40),D23,0) -> 0 | E40: =IF(AND($B$2=$E$27,$H$1=B40),E23,0) -> 0 | F40: =IF(AND($B$2=$F$27,$H$1=B40),F23,0) -> 0 | G40: =IF(AND($B$2=$G$27,$H$1=B40),G23,0) -> 0 | H40: =IF(AND($B$2=$H$27,$H$1=B40),H23,0) -> 0 | I40: =IF(AND($B$2=$I$27,$H$1=B40),I23,0) -> 0 | J40: =IF(AND($B$2=$J$27,$H$1=B40),J23,0) -> 0 | K40: =IF(AND($B$2=$K$27,$H$1=B40),K23,0) -> 0 | L40: =IF(AND($B$2=$L$27,$H$1=B40),L23,0) -> 0 | M40: =IF(AND($B$2>=$M$27,$H$1=B40),M23,0) -> 0
B41: 10000 | C41: =IF(AND($B$2=$C$27,$H$1=B41),C24,0) -> 0 | D41: =IF(AND($B$2=$D$27,$H$1=B41),D24,0) -> 0 | E41: =IF(AND($B$2=$E$27,$H$1=B41),E24,0) -> 0 | F41: =IF(AND($B$2=$F$27,$H$1=B41),F24,0) -> 0 | G41: =IF(AND($B$2=$G$27,$H$1=B41),G24,0) -> 0 | H41: =IF(AND($B$2=$H$27,$H$1=B41),H24,0) -> 0 | I41: =IF(AND($B$2=$I$27,$H$1=B41),I24,0) -> 0 | J41: =IF(AND($B$2=$J$27,$H$1=B41),J24,0) -> 0 | K41: =IF(AND($B$2=$K$27,$H$1=B41),K24,0) -> 0 | L41: =IF(AND($B$2=$L$27,$H$1=B41),L24,0) -> 0 | M41: =IF(AND($B$2>=$M$27,$H$1=B41),M24,0) -> 0
A43: Наименование показателя | B43: °С сут. отопит. периода | C43: МАКСИМУМ | I43: =IF(Лист2!B52=10,SUM(C45:M51),SUM(C45:M51)-3) -> 253.5 | J43: =IF(Лист2!B52=10,SUM(C52:M58),SUM(C52:M58)-3) -> 108.5
C44: 2 | D44: 3 | E44: 4 | F44: 5 | G44: 6 | H44: 7 | I44: 8 | J44: 9 | K44: 10 | L44: 11 | M44: 12
A45: Расход тепловой энергии на отопление, вентиляцию, горячее водоснабжение и электроэнергии на общедомовые нужды <*> | B45: 2000 | C45: =IF(AND($B$2=C$44,$H$2=B45),C11,0) -> 0 | D45: =IF(AND($B$2=D$44,$H$2=B45),D11,0) -> 0 | E45: =IF(AND($B$2=E$44,$H$2=$B45),E11,0) -> 0 | F45: =IF(AND($B$2=F$44,$H$2=$B45),F11,0) -> 0 | G45: =IF(AND($B$2=G$44,$H$2=$B45),G11,0) -> 0 | H45: =IF(AND($B$2=H$44,$H$2=$B45),H11,0) -> 0 | I45: =IF(AND($B$2=I$44,$H$2=$B45),I11,0) -> 0 | J45: =IF(AND($B$2=J$44,$H$2=$B45),J11,0) -> 0 | K45: =IF(AND($B$2=K$44,$H$2=$B45),K11,0) -> 0 | L45: =IF(AND($B$2=L$44,$H$2=$B45),L11,0) -> 0 | M45: =IF(AND($B$2>=M$44,$H$2=$B45),M11,0) -> 0
B46: 3000 | C46: =IF(AND($B$2=C$44,$H$2=B46),C12,0) -> 0 | D46: =IF(AND($B$2=D$44,$H$2=B46),D12,0) -> 0 | E46: =IF(AND($B$2=E$44,$H$2=$B46),E12,0) -> 0 | F46: =IF(AND($B$2=F$44,$H$2=$B46),F12,0) -> 0 | G46: =IF(AND($B$2=G$44,$H$2=$B46),G12,0) -> 0 | H46: =IF(AND($B$2=H$44,$H$2=$B46),H12,0) -> 0 | I46: =IF(AND($B$2=I$44,$H$2=$B46),I12,0) -> 0 | J46: =IF(AND($B$2=J$44,$H$2=$B46),J12,0) -> 0 | K46: =IF(AND($B$2=K$44,$H$2=$B46),K12,0) -> 0 | L46: =IF(AND($B$2=L$44,$H$2=$B46),L12,0) -> 0 | M46: =IF(AND($B$2>=M$44,$H$2=$B46),M12,0) -> 0
B47: 4000 | C47: =IF(AND($B$2=C$44,$H$2=B47),C13,0) -> 0 | D47: =IF(AND($B$2=D$44,$H$2=B47),D13,0) -> 0 | E47: =IF(AND($B$2=E$44,$H$2=$B47),E13,0) -> 0 | F47: =IF(AND($B$2=F$44,$H$2=$B47),F13,0) -> 0 | G47: =IF(AND($B$2=G$44,$H$2=$B47),G13,0) -> 0 | H47: =IF(AND($B$2=H$44,$H$2=$B47),H13,0) -> 0 | I47: =IF(AND($B$2=I$44,$H$2=$B47),I13,0) -> 0 | J47: =IF(AND($B$2=J$44,$H$2=$B47),J13,0) -> 0 | K47: =IF(AND($B$2=K$44,$H$2=$B47),K13,0) -> 0 | L47: =IF(AND($B$2=L$44,$H$2=$B47),L13,0) -> 0 | M47: =IF(AND($B$2>=M$44,$H$2=$B47),M13,0) -> 0
B48: 5000 | C48: =IF(AND($B$2=C$44,$H$2=B48),C14,0) -> 0 | D48: =IF(AND($B$2=D$44,$H$2=B48),D14,0) -> 0 | E48: =IF(AND($B$2=E$44,$H$2=$B48),E14,0) -> 0 | F48: =IF(AND($B$2=F$44,$H$2=$B48),F14,0) -> 0 | G48: =IF(AND($B$2=G$44,$H$2=$B48),G14,0) -> 0 | H48: =IF(AND($B$2=H$44,$H$2=$B48),H14,0) -> 253.5 | I48: =IF(AND($B$2=I$44,$H$2=$B48),I14,0) -> 0 | J48: =IF(AND($B$2=J$44,$H$2=$B48),J14,0) -> 0 | K48: =IF(AND($B$2=K$44,$H$2=$B48),K14,0) -> 0 | L48: =IF(AND($B$2=L$44,$H$2=$B48),L14,0) -> 0 | M48: =IF(AND($B$2>=M$44,$H$2=$B48),M14,0) -> 0
B49: 6000 | C49: =IF(AND($B$2=C$44,$H$2=B49),C15,0) -> 0 | D49: =IF(AND($B$2=D$44,$H$2=B49),D15,0) -> 0 | E49: =IF(AND($B$2=E$44,$H$2=$B49),E15,0) -> 0 | F49: =IF(AND($B$2=F$44,$H$2=$B49),F15,0) -> 0 | G49: =IF(AND($B$2=G$44,$H$2=$B49),G15,0) -> 0 | H49: =IF(AND($B$2=H$44,$H$2=$B49),H15,0) -> 0 | I49: =IF(AND($B$2=I$44,$H$2=$B49),I15,0) -> 0 | J49: =IF(AND($B$2=J$44,$H$2=$B49),J15,0) -> 0 | K49: =IF(AND($B$2=K$44,$H$2=$B49),K15,0) -> 0 | L49: =IF(AND($B$2=L$44,$H$2=$B49),L15,0) -> 0 | M49: =IF(AND($B$2>=M$44,$H$2=$B49),M15,0) -> 0
B50: 8000 | C50: =IF(AND($B$2=C$44,$H$2=B50),C16,0) -> 0 | D50: =IF(AND($B$2=D$44,$H$2=B50),D16,0) -> 0 | E50: =IF(AND($B$2=E$44,$H$2=$B50),E16,0) -> 0 | F50: =IF(AND($B$2=F$44,$H$2=$B50),F16,0) -> 0 | G50: =IF(AND($B$2=G$44,$H$2=$B50),G16,0) -> 0 | H50: =IF(AND($B$2=H$44,$H$2=$B50),H16,0) -> 0 | I50: =IF(AND($B$2=I$44,$H$2=$B50),I16,0) -> 0 | J50: =IF(AND($B$2=J$44,$H$2=$B50),J16,0) -> 0 | K50: =IF(AND($B$2=K$44,$H$2=$B50),K16,0) -> 0 | L50: =IF(AND($B$2=L$44,$H$2=$B50),L16,0) -> 0 | M50: =IF(AND($B$2>=M$44,$H$2=$B50),M16,0) -> 0
B51: 10000 | C51: =IF(AND($B$2=C$44,$H$2=B51),C17,0) -> 0 | D51: =IF(AND($B$2=D$44,$H$2=B51),D17,0) -> 0 | E51: =IF(AND($B$2=E$44,$H$2=$B51),E17,0) -> 0 | F51: =IF(AND($B$2=F$44,$H$2=$B51),F17,0) -> 0 | G51: =IF(AND($B$2=G$44,$H$2=$B51),G17,0) -> 0 | H51: =IF(AND($B$2=H$44,$H$2=$B51),H17,0) -> 0 | I51: =IF(AND($B$2=I$44,$H$2=$B51),I17,0) -> 0 | J51: =IF(AND($B$2=J$44,$H$2=$B51),J17,0) -> 0 | K51: =IF(AND($B$2=K$44,$H$2=$B51),K17,0) -> 0 | L51: =IF(AND($B$2=L$44,$H$2=$B51),L17,0) -> 0 | M51: =IF(AND($B$2>=M$44,$H$2=$B51),M17,0) -> 0
A52: в том числе тепловой энергии на отопление и вентиляцию | B52: 2000 | C52: =IF(AND($B$2=C$44,$H$2=B52),C18,0) -> 0 | D52: =IF(AND($B$2=D$44,$H$2=B52),D18,0) -> 0 | E52: =IF(AND($B$2=E$44,$H$2=$B52),E18,0) -> 0 | F52: =IF(AND($B$2=F$44,$H$2=$B52),F18,0) -> 0 | G52: =IF(AND($B$2=G$44,$H$2=$B52),G18,0) -> 0 | H52: =IF(AND($B$2=H$44,$H$2=$B52),H18,0) -> 0 | I52: =IF(AND($B$2=I$44,$H$2=$B52),I18,0) -> 0 | J52: =IF(AND($B$2=J$44,$H$2=$B52),J18,0) -> 0 | K52: =IF(AND($B$2=K$44,$H$2=$B52),K18,0) -> 0 | L52: =IF(AND($B$2=L$44,$H$2=$B52),L18,0) -> 0 | M52: =IF(AND($B$2>=M$44,$H$2=$B52),M18,0) -> 0
B53: 3000 | C53: =IF(AND($B$2=C$44,$H$2=B53),C19,0) -> 0 | D53: =IF(AND($B$2=D$44,$H$2=B53),D19,0) -> 0 | E53: =IF(AND($B$2=E$44,$H$2=$B53),E19,0) -> 0 | F53: =IF(AND($B$2=F$44,$H$2=$B53),F19,0) -> 0 | G53: =IF(AND($B$2=G$44,$H$2=$B53),G19,0) -> 0 | H53: =IF(AND($B$2=H$44,$H$2=$B53),H19,0) -> 0 | I53: =IF(AND($B$2=I$44,$H$2=$B53),I19,0) -> 0 | J53: =IF(AND($B$2=J$44,$H$2=$B53),J19,0) -> 0 | K53: =IF(AND($B$2=K$44,$H$2=$B53),K19,0) -> 0 | L53: =IF(AND($B$2=L$44,$H$2=$B53),L19,0) -> 0 | M53: =IF(AND($B$2>=M$44,$H$2=$B53),M19,0) -> 0
B54: 4000 | C54: =IF(AND($B$2=C$44,$H$2=B54),C20,0) -> 0 | D54: =IF(AND($B$2=D$44,$H$2=B54),D20,0) -> 0 | E54: =IF(AND($B$2=E$44,$H$2=$B54),E20,0) -> 0 | F54: =IF(AND($B$2=F$44,$H$2=$B54),F20,0) -> 0 | G54: =IF(AND($B$2=G$44,$H$2=$B54),G20,0) -> 0 | H54: =IF(AND($B$2=H$44,$H$2=$B54),H20,0) -> 0 | I54: =IF(AND($B$2=I$44,$H$2=$B54),I20,0) -> 0 | J54: =IF(AND($B$2=J$44,$H$2=$B54),J20,0) -> 0 | K54: =IF(AND($B$2=K$44,$H$2=$B54),K20,0) -> 0 | L54: =IF(AND($B$2=L$44,$H$2=$B54),L20,0) -> 0 | M54: =IF(AND($B$2>=M$44,$H$2=$B54),M20,0) -> 0
B55: 5000 | C55: =IF(AND($B$2=C$44,$H$2=B55),C21,0) -> 0 | D55: =IF(AND($B$2=D$44,$H$2=B55),D21,0) -> 0 | E55: =IF(AND($B$2=E$44,$H$2=$B55),E21,0) -> 0 | F55: =IF(AND($B$2=F$44,$H$2=$B55),F21,0) -> 0 | G55: =IF(AND($B$2=G$44,$H$2=$B55),G21,0) -> 0 | H55: =IF(AND($B$2=H$44,$H$2=$B55),H21,0) -> 108.5 | I55: =IF(AND($B$2=I$44,$H$2=$B55),I21,0) -> 0 | J55: =IF(AND($B$2=J$44,$H$2=$B55),J21,0) -> 0 | K55: =IF(AND($B$2=K$44,$H$2=$B55),K21,0) -> 0 | L55: =IF(AND($B$2=L$44,$H$2=$B55),L21,0) -> 0 | M55: =IF(AND($B$2>=M$44,$H$2=$B55),M21,0) -> 0
B56: 6000 | C56: =IF(AND($B$2=C$44,$H$2=B56),C22,0) -> 0 | D56: =IF(AND($B$2=D$44,$H$2=B56),D22,0) -> 0 | E56: =IF(AND($B$2=E$44,$H$2=$B56),E22,0) -> 0 | F56: =IF(AND($B$2=F$44,$H$2=$B56),F22,0) -> 0 | G56: =IF(AND($B$2=G$44,$H$2=$B56),G22,0) -> 0 | H56: =IF(AND($B$2=H$44,$H$2=$B56),H22,0) -> 0 | I56: =IF(AND($B$2=I$44,$H$2=$B56),I22,0) -> 0 | J56: =IF(AND($B$2=J$44,$H$2=$B56),J22,0) -> 0 | K56: =IF(AND($B$2=K$44,$H$2=$B56),K22,0) -> 0 | L56: =IF(AND($B$2=L$44,$H$2=$B56),L22,0) -> 0 | M56: =IF(AND($B$2>=M$44,$H$2=$B56),M22,0) -> 0
B57: 8000 | C57: =IF(AND($B$2=C$44,$H$2=B57),C23,0) -> 0 | D57: =IF(AND($B$2=D$44,$H$2=B57),D23,0) -> 0 | E57: =IF(AND($B$2=E$44,$H$2=$B57),E23,0) -> 0 | F57: =IF(AND($B$2=F$44,$H$2=$B57),F23,0) -> 0 | G57: =IF(AND($B$2=G$44,$H$2=$B57),G23,0) -> 0 | H57: =IF(AND($B$2=H$44,$H$2=$B57),H23,0) -> 0 | I57: =IF(AND($B$2=I$44,$H$2=$B57),I23,0) -> 0 | J57: =IF(AND($B$2=J$44,$H$2=$B57),J23,0) -> 0 | K57: =IF(AND($B$2=K$44,$H$2=$B57),K23,0) -> 0 | L57: =IF(AND($B$2=L$44,$H$2=$B57),L23,0) -> 0 | M57: =IF(AND($B$2>=M$44,$H$2=$B57),M23,0) -> 0
B58: 10000 | C58: =IF(AND($B$2=C$44,$H$2=B58),C24,0) -> 0 | D58: =IF(AND($B$2=D$44,$H$2=B58),D24,0) -> 0 | E58: =IF(AND($B$2=E$44,$H$2=$B58),E24,0) -> 0 | F58: =IF(AND($B$2=F$44,$H$2=$B58),F24,0) -> 0 | G58: =IF(AND($B$2=G$44,$H$2=$B58),G24,0) -> 0 | H58: =IF(AND($B$2=H$44,$H$2=$B58),H24,0) -> 0 | I58: =IF(AND($B$2=I$44,$H$2=$B58),I24,0) -> 0 | J58: =IF(AND($B$2=J$44,$H$2=$B58),J24,0) -> 0 | K58: =IF(AND($B$2=K$44,$H$2=$B58),K24,0) -> 0 | L58: =IF(AND($B$2=L$44,$H$2=$B58),L24,0) -> 0 | M58: =IF(AND($B$2>=M$44,$H$2=$B58),M24,0) -> 0

Sheet ГОСП баз (2)
A1: ГСОП | B1: =Лист2!G74 -> 6630 | D1: =IF(AND(B1>=2000,B1<3000),2000,IF(AND(B1>=3000,B1<4000),3000)) -> FALSE | E1: =IF(AND(B1>=4000,B1<5000),4000,IF(AND(B1>=5000,B1<6000),5000)) -> FALSE | F1: =IF(AND(B1>=6000,B1<8000),6000,IF(AND(B1>=8000,B1<=10000),8000)) -> 6000 | H1: =SUM(D1:F1) -> 6000
A2: этаж | B2: =Лист2!G24 -> 7 | D2: =IF(AND($B$1>=2000,$B$1<3000),3000,IF(AND($B$1>=3000,$B$1<4000),4000)) -> FALSE | E2: =IF(AND($B$1>=4000,$B$1<5000),5000,IF(AND($B$1>=5000,$B$1<6000),6000)) -> FALSE | F2: =IF(AND($B$1>=6000,$B$1<8000),8000,IF(AND($B$1>=8000,$B$1<=10000),10000)) -> 8000 | H2: =SUM(D2:F2) -> 8000
A4: =ROUND(I26+(B1-H1)/(H2-H1)*(I43-I26),2) -> 289.65 | B4: =ROUND(J26+(B1-H1)/(H2-H1)*(J43-J26),2) -> 140.87 | D4: =I26&"+ ("&B1&" - "&H1&")x("&I43&" - "&I26&")/("&H2&" - "&H1&")="&A4&" кВтч/м2" -> 275+ (6630 - 6000)x(321,5 - 275)/(8000 - 6000)=289,65 кВтч/м2
D5: =J26&"+ ("&B1&" - "&H1&")x("&J43&" - "&J26&")/("&H2&" - "&H1&")="&B4&" кВтч/м2" -> 130+ (6630 - 6000)x(164,5 - 130)/(8000 - 6000)=140,87 кВтч/м2
A7: БАЗОВЫЙ УРОВЕНЬ УДЕЛЬНОГО ГОДОВОГО РАСХОДА ЭНЕРГЕТИЧЕСКИХ РЕСУРСОВ В МНОГОКВАРТИРНОМ ДОМЕ, ОТРАЖАЮЩИЙ СУММАРНЫЙ УДЕЛЬНЫЙ ГОДОВОЙ РАСХОД ТЕПЛОВОЙ ЭНЕРГИИ НА ОТОПЛЕНИЕ, ВЕНТИЛЯЦИЮ, ГОРЯЧЕЕ ВОДОСНАБЖЕНИЕ, А ТАКЖЕ НА ОБЩЕДОМОВЫЕ НУЖДЫ, МНОГОКВАРТИРНЫХ ЖИЛЫХ ДОМОВ, кВт ч/м2
A9: Наименование показателя | B9: °С сут. отопит. периода | C9: Этажность многоквартирного дома
C10: 2 | D10: 3 | E10: 4 | F10: 5 | G10: 6 | H10: 7 | I10: 8 | J10: 9 | K10: 10 | L10: 11 | M10: 12 эт.
A11: Расход тепловой энергии на отопление, вентиляцию, горячее водоснабжение и электроэнергии на общедомовые нужды <*> | B11: 2000 | C11: 215 | D11: =E11+(3-2)*(C11-E11)/(4-2) -> 210.5 | E11: 206 | F11: =G11+(5-4)*(E11-G11)/(6-4) -> 204.5 | G11: 203 | H11: =I11+(7-6)*(G11-I11)/(8-6) -> 202 | I11: 201 | J11: =K11+(9-8)*(I11-K11)/(10-8) -> 200 | K11: 199 | L11: =M11+(11-10)*(K11-M11)/(12-10) -> 198.5 | M11: 198
B12: 3000 | C12: 228 | D12: =E12+(3-2)*(C12-E12)/(4-2) -> 222 | E12: 216 | F12: =G12+(5-4)*(E12-G12)/(6-4) -> 214 | G12: 212 | H12: =I12+(7-6)*(G12-I12)/(8-6) -> 210 | I12: 208 | J12: =K12+(9-8)*(I12-K12)/(10-8) -> 206.5 | K12: 205 | L12: =M12+(11-10)*(K12-M12)/(12-10) -> 204 | M12: 203
B13: 4000 | C13: 256 | D13: =E13+(3-2)*(C13-E13)/(4-2) -> 247.5 | E13: 239 | F13: =G13+(5-4)*(E13-G13)/(6-4) -> 236.5 | G13: 234 | H13: =I13+(7-6)*(G13-I13)/(8-6) -> 231.5 | I13: 229 | J13: =K13+(9-8)*(I13-K13)/(10-8) -> 227 | K13: 225 | L13: =M13+(11-10)*(K13-M13)/(12-10) -> 224 | M13: 223
B14: 5000 | C14: 284 | D14: =E14+(3-2)*(C14-E14)/(4-2) -> 273.5 | E14: 263 | F14: =G14+(5-4)*(E14-G14)/(6-4) -> 259.5 | G14: 256 | H14: =I14+(7-6)*(G14-I14)/(8-6) -> 253.5 | I14: 251 | J14: =K14+(9-8)*(I14-K14)/(10-8) -> 248 | K14: 245 | L14: =M14+(11-10)*(K14-M14)/(12-10) -> 243.5 | M14: 242
B15: 6000 | C15: 312 | D15: =E15+(3-2)*(C15-E15)/(4-2) -> 299.5 | E15: 287 | F15: =G15+(5-4)*(E15-G15)/(6-4) -> 282.5 | G15: 278 | H15: =I15+(7-6)*(G15-I15)/(8-6) -> 275 | I15: 272 | J15: =K15+(9-8)*(I15-K15)/(10-8) -> 268.5 | K15: 265 | L15: =M15+(11-10)*(K15-M15)/(12-10) -> 263.5 | M15: 262
B16: 8000 | C16: 370 | D16: =E16+(3-2)*(C16-E16)/(4-2) -> 353.5 | E16: 337 | F16: =G16+(5-4)*(E16-G16)/(6-4) -> 331.5 | G16: 326 | H16: =I16+(7-6)*(G16-I16)/(8-6) -> 321.5 | I16: 317 | J16: =K16+(9-8)*(I16-K16)/(10-8) -> 312.5 | K16: 308 | L16: =M16+(11-10)*(K16-M16)/(12-10) -> 306 | M16: 304
B17: 10000 | C17: 426 | D17: =E17+(3-2)*(C17-E17)/(4-2) -> 405 | E17: 384 | F17: =G17+(5-4)*(E17-G17)/(6-4) -> 377 | G17: 370 | H17: =I17+(7-6)*(G17-I17)/(8-6) -> 364.5 | I17: 359 | J17: =K17+(9-8)*(I17-K17)/(10-8) -> 353.5 | K17: 348 | L17: =M17+(11-10)*(K17-M17)/(12-10) -> 345 | M17: 342
A18: в том числе тепловой энергии на отопление и вентиляцию | B18: 2000 | C18: 67 | D18: =E18+(3-2)*(C18-E18)/(4-2) -> 61.5 | E18: 56 | F18: =G18+(5-4)*(E18-G18)/(6-4) -> 50 | G18: 44 | H18: =I18+(7-6)*(G18-I18)/(8-6) -> 43 | I18: 42 | J18: =K18+(9-8)*(I18-K18)/(10-8) -> 41 | K18: 40 | L18: =M18+(11-10)*(K18-M18)/(12-10) -> 39.5 | M18: 39
B19: 3000 | C19: 100 | D19: =E19+(3-2)*(C19-E19)/(4-2) -> 91.5 | E19: 83 | F19: =G19+(5-4)*(E19-G19)/(6-4) -> 75 | G19: 67 | H19: =I19+(7-6)*(G19-I19)/(8-6) -> 65 | I19: 63 | J19: =K19+(9-8)*(I19-K19)/(10-8) -> 61.5 | K19: 60 | L19: =M19+(11-10)*(K19-M19)/(12-10) -> 59 | M19: 58
B20: 4000 | C20: 133 | D20: =E20+(3-2)*(C20-E20)/(4-2) -> 122 | E20: 111 | F20: =G20+(5-4)*(E20-G20)/(6-4) -> 100 | G20: 89 | H20: =I20+(7-6)*(G20-I20)/(8-6) -> 86.5 | I20: 84 | J20: =K20+(9-8)*(I20-K20)/(10-8) -> 82 | K20: 80 | L20: =M20+(11-10)*(K20-M20)/(12-10) -> 79 | M20: 78
B21: 5000 | C21: 167 | D21: =E21+(3-2)*(C21-E21)/(4-2) -> 153 | E21: 139 | F21: =G21+(5-4)*(E21-G21)/(6-4) -> 125 | G21: 111 | H21: =I21+(7-6)*(G21-I21)/(8-6) -> 108.5 | I21: 106 | J21: =K21+(9-8)*(I21-K21)/(10-8) -> 103 | K21: 100 | L21: =M21+(11-10)*(K21-M21)/(12-10) -> 98.5 | M21: 97
B22: 6000 | C22: 200 | D22: =E22+(3-2)*(C22-E22)/(4-2) -> 183.5 | E22: 167 | F22: =G22+(5-4)*(E22-G22)/(6-4) -> 150 | G22: 133 | H22: =I22+(7-6)*(G22-I22)/(8-6) -> 130 | I22: 127 | J22: =K22+(9-8)*(I22-K22)/(10-8) -> 123.5 | K22: 120 | L22: =M22+(11-10)*(K22-M22)/(12-10) -> 118.5 | M22: 117
B23: 8000 | C23: 253 | D23: =E23+(3-2)*(C23-E23)/(4-2) -> 232 | E23: 211 | F23: =G23+(5-4)*(E23-G23)/(6-4) -> 190 | G23: 169 | H23: =I23+(7-6)*(G23-I23)/(8-6) -> 164.5 | I23: 160 | J23: =K23+(9-8)*(I23-K23)/(10-8) -> 156 | K23: 152 | L23: =M23+(11-10)*(K23-M23)/(12-10) -> 150 | M23: 148
B24: 10000 | C24: 317 | D24: =E24+(3-2)*(C24-E24)/(4-2) -> 290.5 | E24: 264 | F24: =G24+(5-4)*(E24-G24)/(6-4) -> 237.5 | G24: 211 | H24: =I24+(7-6)*(G24-I24)/(8-6) -> 206 | I24: 201 | J24: =K24+(9-8)*(I24-K24)/(10-8) -> 195.5 | K24: 190 | L24: =M24+(11-10)*(K24-M24)/(12-10) -> 187.5 | M24: 185
A26: Наименование показателя | B26: °С сут. отопит. периода | C26: МИНИМУМ | I26: =IF(Лист2!B52=10,SUM(C28:M34),SUM(C28:M34)-3) -> 275 | J26: =IF(Лист2!B52=10,SUM(C35:M41),SUM(C35:M41)-3) -> 130
C27: 2 | D27: 3 | E27: 4 | F27: 5 | G27: 6 | H27: 7 | I27: 8 | J27: 9 | K27: 10 | L27: 11 | M27: 12
A28: Расход тепловой энергии на отопление, вентиляцию, горячее водоснабжение и электроэнергии на общедомовые нужды <*> | B28: 2000 | C28: =IF(AND($B$2=$C$27,$H$1=B28),C11,0) -> 0 | D28: =IF(AND($B$2=$D$27,$H$1=B28),D11,0) -> 0 | E28: =IF(AND($B$2=$E$27,$H$1=B28),E11,0) -> 0 | F28: =IF(AND($B$2=$F$27,$H$1=B28),F11,0) -> 0 | G28: =IF(AND($B$2=$G$27,$H$1=B28),G11,0) -> 0 | H28: =IF(AND($B$2=$H$27,$H$1=B28),H11,0) -> 0 | I28: =IF(AND($B$2=$I$27,$H$1=B28),I11,0) -> 0 | J28: =IF(AND($B$2=$J$27,$H$1=B28),J11,0) -> 0 | K28: =IF(AND($B$2=$K$27,$H$1=B28),K11,0) -> 0 | L28: =IF(AND($B$2=$L$27,$H$1=B28),L11,0) -> 0 | M28: =IF(AND($B$2>=$M$27,$H$1=B28),M11,0) -> 0
B29: 3000 | C29: =IF(AND($B$2=$C$27,$H$1=B29),C12,0) -> 0 | D29: =IF(AND($B$2=$D$27,$H$1=B29),D12,0) -> 0 | E29: =IF(AND($B$2=$E$27,$H$1=B29),E12,0) -> 0 | F29: =IF(AND($B$2=$F$27,$H$1=B29),F12,0) -> 0 | G29: =IF(AND($B$2=$G$27,$H$1=B29),G12,0) -> 0 | H29: =IF(AND($B$2=$H$27,$H$1=B29),H12,0) -> 0 | I29: =IF(AND($B$2=$I$27,$H$1=B29),I12,0) -> 0 | J29: =IF(AND($B$2=$J$27,$H$1=B29),J12,0) -> 0 | K29: =IF(AND($B$2=$K$27,$H$1=B29),K12,0) -> 0 | L29: =IF(AND($B$2=$L$27,$H$1=B29),L12,0) -> 0 | M29: =IF(AND($B$2>=$M$27,$H$1=B29),M12,0) -> 0
B30: 4000 | C30: =IF(AND($B$2=$C$27,$H$1=B30),C13,0) -> 0 | D30: =IF(AND($B$2=$D$27,$H$1=B30),D13,0) -> 0 | E30: =IF(AND($B$2=$E$27,$H$1=B30),E13,0) -> 0 | F30: =IF(AND($B$2=$F$27,$H$1=B30),F13,0) -> 0 | G30: =IF(AND($B$2=$G$27,$H$1=B30),G13,0) -> 0 | H30: =IF(AND($B$2=$H$27,$H$1=B30),H13,0) -> 0 | I30: =IF(AND($B$2=$I$27,$H$1=B30),I13,0) -> 0 | J30: =IF(AND($B$2=$J$27,$H$1=B30),J13,0) -> 0 | K30: =IF(AND($B$2=$K$27,$H$1=B30),K13,0) -> 0 | L30: =IF(AND($B$2=$L$27,$H$1=B30),L13,0) -> 0 | M30: =IF(AND($B$2>=$M$27,$H$1=B30),M13,0) -> 0
B31: 5000 | C31: =IF(AND($B$2=$C$27,$H$1=B31),C14,0) -> 0 | D31: =IF(AND($B$2=$D$27,$H$1=B31),D14,0) -> 0 | E31: =IF(AND($B$2=$E$27,$H$1=B31),E14,0) -> 0 | F31: =IF(AND($B$2=$F$27,$H$1=B31),F14,0) -> 0 | G31: =IF(AND($B$2=$G$27,$H$1=B31),G14,0) -> 0 | H31: =IF(AND($B$2=$H$27,$H$1=B31),H14,0) -> 0 | I31: =IF(AND($B$2=$I$27,$H$1=B31),I14,0) -> 0 | J31: =IF(AND($B$2=$J$27,$H$1=B31),J14,0) -> 0 | K31: =IF(AND($B$2=$K$27,$H$1=B31),K14,0) -> 0 | L31: =IF(AND($B$2=$L$27,$H$1=B31),L14,0) -> 0 | M31: =IF(AND($B$2>=$M$27,$H$1=B31),M14,0) -> 0
B32: 6000 | C32: =IF(AND($B$2=$C$27,$H$1=B32),C15,0) -> 0 | D32: =IF(AND($B$2=$D$27,$H$1=B32),D15,0) -> 0 | E32: =IF(AND($B$2=$E$27,$H$1=B32),E15,0) -> 0 | F32: =IF(AND($B$2=$F$27,$H$1=B32),F15,0) -> 0 | G32: =IF(AND($B$2=$G$27,$H$1=B32),G15,0) -> 0 | H32: =IF(AND($B$2=$H$27,$H$1=B32),H15,0) -> 275 | I32: =IF(AND($B$2=$I$27,$H$1=B32),I15,0) -> 0 | J32: =IF(AND($B$2=$J$27,$H$1=B32),J15,0) -> 0 | K32: =IF(AND($B$2=$K$27,$H$1=B32),K15,0) -> 0 | L32: =IF(AND($B$2=$L$27,$H$1=B32),L15,0) -> 0 | M32: =IF(AND($B$2>=$M$27,$H$1=B32),M15,0) -> 0
B33: 8000 | C33: =IF(AND($B$2=$C$27,$H$1=B33),C16,0) -> 0 | D33: =IF(AND($B$2=$D$27,$H$1=B33),D16,0) -> 0 | E33: =IF(AND($B$2=$E$27,$H$1=B33),E16,0) -> 0 | F33: =IF(AND($B$2=$F$27,$H$1=B33),F16,0) -> 0 | G33: =IF(AND($B$2=$G$27,$H$1=B33),G16,0) -> 0 | H33: =IF(AND($B$2=$H$27,$H$1=B33),H16,0) -> 0 | I33: =IF(AND($B$2=$I$27,$H$1=B33),I16,0) -> 0 | J33: =IF(AND($B$2=$J$27,$H$1=B33),J16,0) -> 0 | K33: =IF(AND($B$2=$K$27,$H$1=B33),K16,0) -> 0 | L33: =IF(AND($B$2=$L$27,$H$1=B33),L16,0) -> 0 | M33: =IF(AND($B$2>=$M$27,$H$1=B33),M16,0) -> 0
B34: 10000 | C34: =IF(AND($B$2=$C$27,$H$1=B34),C17,0) -> 0 | D34: =IF(AND($B$2=$D$27,$H$1=B34),D17,0) -> 0 | E34: =IF(AND($B$2=$E$27,$H$1=B34),E17,0) -> 0 | F34: =IF(AND($B$2=$F$27,$H$1=B34),F17,0) -> 0 | G34: =IF(AND($B$2=$G$27,$H$1=B34),G17,0) -> 0 | H34: =IF(AND($B$2=$H$27,$H$1=B34),H17,0) -> 0 | I34: =IF(AND($B$2=$I$27,$H$1=B34),I17,0) -> 0 | J34: =IF(AND($B$2=$J$27,$H$1=B34),J17,0) -> 0 | K34: =IF(AND($B$2=$K$27,$H$1=B34),K17,0) -> 0 | L34: =IF(AND($B$2=$L$27,$H$1=B34),L17,0) -> 0 | M34: =IF(AND($B$2>=$M$27,$H$1=B34),M17,0) -> 0
A35: в том числе тепловой энергии на отопление и вентиляцию | B35: 2000 | C35: =IF(AND($B$2=$C$27,$H$1=B35),C18,0) -> 0 | D35: =IF(AND($B$2=$D$27,$H$1=B35),D18,0) -> 0 | E35: =IF(AND($B$2=$E$27,$H$1=B35),E18,0) -> 0 | F35: =IF(AND($B$2=$F$27,$H$1=B35),F18,0) -> 0 | G35: =IF(AND($B$2=$G$27,$H$1=B35),G18,0) -> 0 | H35: =IF(AND($B$2=$H$27,$H$1=B35),H18,0) -> 0 | I35: =IF(AND($B$2=$I$27,$H$1=B35),I18,0) -> 0 | J35: =IF(AND($B$2=$J$27,$H$1=B35),J18,0) -> 0 | K35: =IF(AND($B$2=$K$27,$H$1=B35),K18,0) -> 0 | L35: =IF(AND($B$2=$L$27,$H$1=B35),L18,0) -> 0 | M35: =IF(AND($B$2>=$M$27,$H$1=B35),M18,0) -> 0
B36: 3000 | C36: =IF(AND($B$2=$C$27,$H$1=B36),C19,0) -> 0 | D36: =IF(AND($B$2=$D$27,$H$1=B36),D19,0) -> 0 | E36: =IF(AND($B$2=$E$27,$H$1=B36),E19,0) -> 0 | F36: =IF(AND($B$2=$F$27,$H$1=B36),F19,0) -> 0 | G36: =IF(AND($B$2=$G$27,$H$1=B36),G19,0) -> 0 | H36: =IF(AND($B$2=$H$27,$H$1=B36),H19,0) -> 0 | I36: =IF(AND($B$2=$I$27,$H$1=B36),I19,0) -> 0 | J36: =IF(AND($B$2=$J$27,$H$1=B36),J19,0) -> 0 | K36: =IF(AND($B$2=$K$27,$H$1=B36),K19,0) -> 0 | L36: =IF(AND($B$2=$L$27,$H$1=B36),L19,0) -> 0 | M36: =IF(AND($B$2>=$M$27,$H$1=B36),M19,0) -> 0
B37: 4000 | C37: =IF(AND($B$2=$C$27,$H$1=B37),C20,0) -> 0 | D37: =IF(AND($B$2=$D$27,$H$1=B37),D20,0) -> 0 | E37: =IF(AND($B$2=$E$27,$H$1=B37),E20,0) -> 0 | F37: =IF(AND($B$2=$F$27,$H$1=B37),F20,0) -> 0 | G37: =IF(AND($B$2=$G$27,$H$1=B37),G20,0) -> 0 | H37: =IF(AND($B$2=$H$27,$H$1=B37),H20,0) -> 0 | I37: =IF(AND($B$2=$I$27,$H$1=B37),I20,0) -> 0 | J37: =IF(AND($B$2=$J$27,$H$1=B37),J20,0) -> 0 | K37: =IF(AND($B$2=$K$27,$H$1=B37),K20,0) -> 0 | L37: =IF(AND($B$2=$L$27,$H$1=B37),L20,0) -> 0 | M37: =IF(AND($B$2>=$M$27,$H$1=B37),M20,0) -> 0
B38: 5000 | C38: =IF(AND($B$2=$C$27,$H$1=B38),C21,0) -> 0 | D38: =IF(AND($B$2=$D$27,$H$1=B38),D21,0) -> 0 | E38: =IF(AND($B$2=$E$27,$H$1=B38),E21,0) -> 0 | F38: =IF(AND($B$2=$F$27,$H$1=B38),F21,0) -> 0 | G38: =IF(AND($B$2=$G$27,$H$1=B38),G21,0) -> 0 | H38: =IF(AND($B$2=$H$27,$H$1=B38),H21,0) -> 0 | I38: =IF(AND($B$2=$I$27,$H$1=B38),I21,0) -> 0 | J38: =IF(AND($B$2=$J$27,$H$1=B38),J21,0) -> 0 | K38: =IF(AND($B$2=$K$27,$H$1=B38),K21,0) -> 0 | L38: =IF(AND($B$2=$L$27,$H$1=B38),L21,0) -> 0 | M38: =IF(AND($B$2>=$M$27,$H$1=B38),M21,0) -> 0
B39: 6000 | C39: =IF(AND($B$2=$C$27,$H$1=B39),C22,0) -> 0 | D39: =IF(AND($B$2=$D$27,$H$1=B39),D22,0) -> 0 | E39: =IF(AND($B$2=$E$27,$H$1=B39),E22,0) -> 0 | F39: =IF(AND($B$2=$F$27,$H$1=B39),F22,0) -> 0 | G39: =IF(AND($B$2=$G$27,$H$1=B39),G22,0) -> 0 | H39: =IF(AND($B$2=$H$27,$H$1=B39),H22,0) -> 130 | I39: =IF(AND($B$2=$I$27,$H$1=B39),I22,0) -> 0 | J39: =IF(AND($B$2=$J$27,$H$1=B39),J22,0) -> 0 | K39: =IF(AND($B$2=$K$27,$H$1=B39),K22,0) -> 0 | L39: =IF(AND($B$2=$L$27,$H$1=B39),L22,0) -> 0 | M39: =IF(AND($B$2>=$M$27,$H$1=B39),M22,0) -> 0
B40: 8000 | C40: =IF(AND($B$2=$C$27,$H$1=B40),C23,0) -> 0 | D40: =IF(AND($B$2=$D$27,$H$1=B40),D23,0) -> 0 | E40: =IF(AND($B$2=$E$27,$H$1=B40),E23,0) -> 0 | F40: =IF(AND($B$2=$F$27,$H$1=B40),F23,0) -> 0 | G40: =IF(AND($B$2=$G$27,$H$1=B40),G23,0) -> 0 | H40: =IF(AND($B$2=$H$27,$H$1=B40),H23,0) -> 0 | I40: =IF(AND($B$2=$I$27,$H$1=B40),I23,0) -> 0 | J40: =IF(AND($B$2=$J$27,$H$1=B40),J23,0) -> 0 | K40: =IF(AND($B$2=$K$27,$H$1=B40),K23,0) -> 0 | L40: =IF(AND($B$2=$L$27,$H$1=B40),L23,0) -> 0 | M40: =IF(AND($B$2>=$M$27,$H$1=B40),M23,0) -> 0
B41: 10000 | C41: =IF(AND($B$2=$C$27,$H$1=B41),C24,0) -> 0 | D41: =IF(AND($B$2=$D$27,$H$1=B41),D24,0) -> 0 | E41: =IF(AND($B$2=$E$27,$H$1=B41),E24,0) -> 0 | F41: =IF(AND($B$2=$F$27,$H$1=B41),F24,0) -> 0 | G41: =IF(AND($B$2=$G$27,$H$1=B41),G24,0) -> 0 | H41: =IF(AND($B$2=$H$27,$H$1=B41),H24,0) -> 0 | I41: =IF(AND($B$2=$I$27,$H$1=B41),I24,0) -> 0 | J41: =IF(AND($B$2=$J$27,$H$1=B41),J24,0) -> 0 | K41: =IF(AND($B$2=$K$27,$H$1=B41),K24,0) -> 0 | L41: =IF(AND($B$2=$L$27,$H$1=B41),L24,0) -> 0 | M41: =IF(AND($B$2>=$M$27,$H$1=B41),M24,0) -> 0
A43: Наименование показателя | B43: °С сут. отопит. периода | C43: МАКСИМУМ | I43: =IF(Лист2!B52=10,SUM(C45:M51),SUM(C45:M51)-3) -> 321.5 | J43: =IF(Лист2!B52=10,SUM(C52:M58),SUM(C52:M58)-3) -> 164.5
C44: 2 | D44: 3 | E44: 4 | F44: 5 | G44: 6 | H44: 7 | I44: 8 | J44: 9 | K44: 10 | L44: 11 | M44: 12
A45: Расход тепловой энергии на отопление, вентиляцию, горячее водоснабжение и электроэнергии на общедомовые нужды <*> | B45: 2000 | C45: =IF(AND($B$2=C$44,$H$2=B45),C11,0) -> 0 | D45: =IF(AND($B$2=D$44,$H$2=B45),D11,0) -> 0 | E45: =IF(AND($B$2=E$44,$H$2=$B45),E11,0) -> 0 | F45: =IF(AND($B$2=F$44,$H$2=$B45),F11,0) -> 0 | G45: =IF(AND($B$2=G$44,$H$2=$B45),G11,0) -> 0 | H45: =IF(AND($B$2=H$44,$H$2=$B45),H11,0) -> 0 | I45: =IF(AND($B$2=I$44,$H$2=$B45),I11,0) -> 0 | J45: =IF(AND($B$2=J$44,$H$2=$B45),J11,0) -> 0 | K45: =IF(AND($B$2=K$44,$H$2=$B45),K11,0) -> 0 | L45: =IF(AND($B$2=L$44,$H$2=$B45),L11,0) -> 0 | M45: =IF(AND($B$2>=M$44,$H$2=$B45),M11,0) -> 0
B46: 3000 | C46: =IF(AND($B$2=C$44,$H$2=B46),C12,0) -> 0 | D46: =IF(AND($B$2=D$44,$H$2=B46),D12,0) -> 0 | E46: =IF(AND($B$2=E$44,$H$2=$B46),E12,0) -> 0 | F46: =IF(AND($B$2=F$44,$H$2=$B46),F12,0) -> 0 | G46: =IF(AND($B$2=G$44,$H$2=$B46),G12,0) -> 0 | H46: =IF(AND($B$2=H$44,$H$2=$B46),H12,0) -> 0 | I46: =IF(AND($B$2=I$44,$H$2=$B46),I12,0) -> 0 | J46: =IF(AND($B$2=J$44,$H$2=$B46),J12,0) -> 0 | K46: =IF(AND($B$2=K$44,$H$2=$B46),K12,0) -> 0 | L46: =IF(AND($B$2=L$44,$H$2=$B46),L12,0) -> 0 | M46: =IF(AND($B$2>=M$44,$H$2=$B46),M12,0) -> 0
B47: 4000 | C47: =IF(AND($B$2=C$44,$H$2=B47),C13,0) -> 0 | D47: =IF(AND($B$2=D$44,$H$2=B47),D13,0) -> 0 | E47: =IF(AND($B$2=E$44,$H$2=$B47),E13,0) -> 0 | F47: =IF(AND($B$2=F$44,$H$2=$B47),F13,0) -> 0 | G47: =IF(AND($B$2=G$44,$H$2=$B47),G13,0) -> 0 | H47: =IF(AND($B$2=H$44,$H$2=$B47),H13,0) -> 0 | I47: =IF(AND($B$2=I$44,$H$2=$B47),I13,0) -> 0 | J47: =IF(AND($B$2=J$44,$H$2=$B47),J13,0) -> 0 | K47: =IF(AND($B$2=K$44,$H$2=$B47),K13,0) -> 0 | L47: =IF(AND($B$2=L$44,$H$2=$B47),L13,0) -> 0 | M47: =IF(AND($B$2>=M$44,$H$2=$B47),M13,0) -> 0
B48: 5000 | C48: =IF(AND($B$2=C$44,$H$2=B48),C14,0) -> 0 | D48: =IF(AND($B$2=D$44,$H$2=B48),D14,0) -> 0 | E48: =IF(AND($B$2=E$44,$H$2=$B48),E14,0) -> 0 | F48: =IF(AND($B$2=F$44,$H$2=$B48),F14,0) -> 0 | G48: =IF(AND($B$2=G$44,$H$2=$B48),G14,0) -> 0 | H48: =IF(AND($B$2=H$44,$H$2=$B48),H14,0) -> 0 | I48: =IF(AND($B$2=I$44,$H$2=$B48),I14,0) -> 0 | J48: =IF(AND($B$2=J$44,$H$2=$B48),J14,0) -> 0 | K48: =IF(AND($B$2=K$44,$H$2=$B48),K14,0) -> 0 | L48: =IF(AND($B$2=L$44,$H$2=$B48),L14,0) -> 0 | M48: =IF(AND($B$2>=M$44,$H$2=$B48),M14,0) -> 0
B49: 6000 | C49: =IF(AND($B$2=C$44,$H$2=B49),C15,0) -> 0 | D49: =IF(AND($B$2=D$44,$H$2=B49),D15,0) -> 0 | E49: =IF(AND($B$2=E$44,$H$2=$B49),E15,0) -> 0 | F49: =IF(AND($B$2=F$44,$H$2=$B49),F15,0) -> 0 | G49: =IF(AND($B$2=G$44,$H$2=$B49),G15,0) -> 0 | H49: =IF(AND($B$2=H$44,$H$2=$B49),H15,0) -> 0 | I49: =IF(AND($B$2=I$44,$H$2=$B49),I15,0) -> 0 | J49: =IF(AND($B$2=J$44,$H$2=$B49),J15,0) -> 0 | K49: =IF(AND($B$2=K$44,$H$2=$B49),K15,0) -> 0 | L49: =IF(AND($B$2=L$44,$H$2=$B49),L15,0) -> 0 | M49: =IF(AND($B$2>=M$44,$H$2=$B49),M15,0) -> 0
B50: 8000 | C50: =IF(AND($B$2=C$44,$H$2=B50),C16,0) -> 0 | D50: =IF(AND($B$2=D$44,$H$2=B50),D16,0) -> 0 | E50: =IF(AND($B$2=E$44,$H$2=$B50),E16,0) -> 0 | F50: =IF(AND($B$2=F$44,$H$2=$B50),F16,0) -> 0 | G50: =IF(AND($B$2=G$44,$H$2=$B50),G16,0) -> 0 | H50: =IF(AND($B$2=H$44,$H$2=$B50),H16,0) -> 321.5 | I50: =IF(AND($B$2=I$44,$H$2=$B50),I16,0) -> 0 | J50: =IF(AND($B$2=J$44,$H$2=$B50),J16,0) -> 0 | K50: =IF(AND($B$2=K$44,$H$2=$B50),K16,0) -> 0 | L50: =IF(AND($B$2=L$44,$H$2=$B50),L16,0) -> 0 | M50: =IF(AND($B$2>=M$44,$H$2=$B50),M16,0) -> 0
B51: 10000 | C51: =IF(AND($B$2=C$44,$H$2=B51),C17,0) -> 0 | D51: =IF(AND($B$2=D$44,$H$2=B51),D17,0) -> 0 | E51: =IF(AND($B$2=E$44,$H$2=$B51),E17,0) -> 0 | F51: =IF(AND($B$2=F$44,$H$2=$B51),F17,0) -> 0 | G51: =IF(AND($B$2=G$44,$H$2=$B51),G17,0) -> 0 | H51: =IF(AND($B$2=H$44,$H$2=$B51),H17,0) -> 0 | I51: =IF(AND($B$2=I$44,$H$2=$B51),I17,0) -> 0 | J51: =IF(AND($B$2=J$44,$H$2=$B51),J17,0) -> 0 | K51: =IF(AND($B$2=K$44,$H$2=$B51),K17,0) -> 0 | L51: =IF(AND($B$2=L$44,$H$2=$B51),L17,0) -> 0 | M51: =IF(AND($B$2>=M$44,$H$2=$B51),M17,0) -> 0
A52: в том числе тепловой энергии на отопление и вентиляцию | B52: 2000 | C52: =IF(AND($B$2=C$44,$H$2=B52),C18,0) -> 0 | D52: =IF(AND($B$2=D$44,$H$2=B52),D18,0) -> 0 | E52: =IF(AND($B$2=E$44,$H$2=$B52),E18,0) -> 0 | F52: =IF(AND($B$2=F$44,$H$2=$B52),F18,0) -> 0 | G52: =IF(AND($B$2=G$44,$H$2=$B52),G18,0) -> 0 | H52: =IF(AND($B$2=H$44,$H$2=$B52),H18,0) -> 0 | I52: =IF(AND($B$2=I$44,$H$2=$B52),I18,0) -> 0 | J52: =IF(AND($B$2=J$44,$H$2=$B52),J18,0) -> 0 | K52: =IF(AND($B$2=K$44,$H$2=$B52),K18,0) -> 0 | L52: =IF(AND($B$2=L$44,$H$2=$B52),L18,0) -> 0 | M52: =IF(AND($B$2>=M$44,$H$2=$B52),M18,0) -> 0
B53: 3000 | C53: =IF(AND($B$2=C$44,$H$2=B53),C19,0) -> 0 | D53: =IF(AND($B$2=D$44,$H$2=B53),D19,0) -> 0 | E53: =IF(AND($B$2=E$44,$H$2=$B53),E19,0) -> 0 | F53: =IF(AND($B$2=F$44,$H$2=$B53),F19,0) -> 0 | G53: =IF(AND($B$2=G$44,$H$2=$B53),G19,0) -> 0 | H53: =IF(AND($B$2=H$44,$H$2=$B53),H19,0) -> 0 | I53: =IF(AND($B$2=I$44,$H$2=$B53),I19,0) -> 0 | J53: =IF(AND($B$2=J$44,$H$2=$B53),J19,0) -> 0 | K53: =IF(AND($B$2=K$44,$H$2=$B53),K19,0) -> 0 | L53: =IF(AND($B$2=L$44,$H$2=$B53),L19,0) -> 0 | M53: =IF(AND($B$2>=M$44,$H$2=$B53),M19,0) -> 0
B54: 4000 | C54: =IF(AND($B$2=C$44,$H$2=B54),C20,0) -> 0 | D54: =IF(AND($B$2=D$44,$H$2=B54),D20,0) -> 0 | E54: =IF(AND($B$2=E$44,$H$2=$B54),E20,0) -> 0 | F54: =IF(AND($B$2=F$44,$H$2=$B54),F20,0) -> 0 | G54: =IF(AND($B$2=G$44,$H$2=$B54),G20,0) -> 0 | H54: =IF(AND($B$2=H$44,$H$2=$B54),H20,0) -> 0 | I54: =IF(AND($B$2=I$44,$H$2=$B54),I20,0) -> 0 | J54: =IF(AND($B$2=J$44,$H$2=$B54),J20,0) -> 0 | K54: =IF(AND($B$2=K$44,$H$2=$B54),K20,0) -> 0 | L54: =IF(AND($B$2=L$44,$H$2=$B54),L20,0) -> 0 | M54: =IF(AND($B$2>=M$44,$H$2=$B54),M20,0) -> 0
B55: 5000 | C55: =IF(AND($B$2=C$44,$H$2=B55),C21,0) -> 0 | D55: =IF(AND($B$2=D$44,$H$2=B55),D21,0) -> 0 | E55: =IF(AND($B$2=E$44,$H$2=$B55),E21,0) -> 0 | F55: =IF(AND($B$2=F$44,$H$2=$B55),F21,0) -> 0 | G55: =IF(AND($B$2=G$44,$H$2=$B55),G21,0) -> 0 | H55: =IF(AND($B$2=H$44,$H$2=$B55),H21,0) -> 0 | I55: =IF(AND($B$2=I$44,$H$2=$B55),I21,0) -> 0 | J55: =IF(AND($B$2=J$44,$H$2=$B55),J21,0) -> 0 | K55: =IF(AND($B$2=K$44,$H$2=$B55),K21,0) -> 0 | L55: =IF(AND($B$2=L$44,$H$2=$B55),L21,0) -> 0 | M55: =IF(AND($B$2>=M$44,$H$2=$B55),M21,0) -> 0
B56: 6000 | C56: =IF(AND($B$2=C$44,$H$2=B56),C22,0) -> 0 | D56: =IF(AND($B$2=D$44,$H$2=B56),D22,0) -> 0 | E56: =IF(AND($B$2=E$44,$H$2=$B56),E22,0) -> 0 | F56: =IF(AND($B$2=F$44,$H$2=$B56),F22,0) -> 0 | G56: =IF(AND($B$2=G$44,$H$2=$B56),G22,0) -> 0 | H56: =IF(AND($B$2=H$44,$H$2=$B56),H22,0) -> 0 | I56: =IF(AND($B$2=I$44,$H$2=$B56),I22,0) -> 0 | J56: =IF(AND($B$2=J$44,$H$2=$B56),J22,0) -> 0 | K56: =IF(AND($B$2=K$44,$H$2=$B56),K22,0) -> 0 | L56: =IF(AND($B$2=L$44,$H$2=$B56),L22,0) -> 0 | M56: =IF(AND($B$2>=M$44,$H$2=$B56),M22,0) -> 0
B57: 8000 | C57: =IF(AND($B$2=C$44,$H$2=B57),C23,0) -> 0 | D57: =IF(AND($B$2=D$44,$H$2=B57),D23,0) -> 0 | E57: =IF(AND($B$2=E$44,$H$2=$B57),E23,0) -> 0 | F57: =IF(AND($B$2=F$44,$H$2=$B57),F23,0) -> 0 | G57: =IF(AND($B$2=G$44,$H$2=$B57),G23,0) -> 0 | H57: =IF(AND($B$2=H$44,$H$2=$B57),H23,0) -> 164.5 | I57: =IF(AND($B$2=I$44,$H$2=$B57),I23,0) -> 0 | J57: =IF(AND($B$2=J$44,$H$2=$B57),J23,0) -> 0 | K57: =IF(AND($B$2=K$44,$H$2=$B57),K23,0) -> 0 | L57: =IF(AND($B$2=L$44,$H$2=$B57),L23,0) -> 0 | M57: =IF(AND($B$2>=M$44,$H$2=$B57),M23,0) -> 0
B58: 10000 | C58: =IF(AND($B$2=C$44,$H$2=B58),C24,0) -> 0 | D58: =IF(AND($B$2=D$44,$H$2=B58),D24,0) -> 0 | E58: =IF(AND($B$2=E$44,$H$2=$B58),E24,0) -> 0 | F58: =IF(AND($B$2=F$44,$H$2=$B58),F24,0) -> 0 | G58: =IF(AND($B$2=G$44,$H$2=$B58),G24,0) -> 0 | H58: =IF(AND($B$2=H$44,$H$2=$B58),H24,0) -> 0 | I58: =IF(AND($B$2=I$44,$H$2=$B58),I24,0) -> 0 | J58: =IF(AND($B$2=J$44,$H$2=$B58),J24,0) -> 0 | K58: =IF(AND($B$2=K$44,$H$2=$B58),K24,0) -> 0 | L58: =IF(AND($B$2=L$44,$H$2=$B58),L24,0) -> 0 | M58: =IF(AND($B$2>=M$44,$H$2=$B58),M24,0) -> 0

Sheet ГОСП факт
A1: ГСОП | B1: =Лист2!H39 -> 6660 | D1: =IF(AND(B1>=2000,B1<3000),2000,IF(AND(B1>=3000,B1<4000),3000)) -> FALSE | E1: =IF(AND(B1>=4000,B1<5000),4000,IF(AND(B1>=5000,B1<6000),5000)) -> FALSE | F1: =IF(AND(B1>=6000,B1<8000),6000,IF(AND(B1>=8000,B1<=10000),8000)) -> 6000 | H1: =SUM(D1:F1) -> 6000
A2: этаж | B2: =Лист2!G24 -> 7 | D2: =IF(AND($B$1>=2000,$B$1<3000),3000,IF(AND($B$1>=3000,$B$1<4000),4000)) -> FALSE | E2: =IF(AND($B$1>=4000,$B$1<5000),5000,IF(AND($B$1>=5000,$B$1<6000),6000)) -> FALSE | F2: =IF(AND($B$1>=6000,$B$1<8000),8000,IF(AND($B$1>=8000,$B$1<=10000),10000)) -> 8000 | H2: =SUM(D2:F2) -> 8000
A4: =I26+(B1-H1)/(H2-H1)*(I43-J26) -> 338.195 | B4: =J26+(B1-H1)/(H2-H1)*(J43-J26) -> 141.385
A7: БАЗОВЫЙ УРОВЕНЬ УДЕЛЬНОГО ГОДОВОГО РАСХОДА ЭНЕРГЕТИЧЕСКИХ РЕСУРСОВ В МНОГОКВАРТИРНОМ ДОМЕ, ОТРАЖАЮЩИЙ СУММАРНЫЙ УДЕЛЬНЫЙ ГОДОВОЙ РАСХОД ТЕПЛОВОЙ ЭНЕРГИИ НА ОТОПЛЕНИЕ, ВЕНТИЛЯЦИЮ, ГОРЯЧЕЕ ВОДОСНАБЖЕНИЕ, А ТАКЖЕ НА ОБЩЕДОМОВЫЕ НУЖДЫ, МНОГОКВАРТИРНЫХ ЖИЛЫХ ДОМОВ, кВт ч/м2
A9: Наименование показателя | B9: °С сут. отопит. периода | C9: Этажность многоквартирного дома
C10: 2 | D10: 3 | E10: 4 | F10: 5 | G10: 6 | H10: 7 | I10: 8 | J10: 9 | K10: 10 | L10: 11 | M10: 12 эт.
A11: Расход тепловой энергии на отопление, вентиляцию, горячее водоснабжение и электроэнергии на общедомовые нужды <*> | B11: 2000 | C11: 215 | D11: =E11+(3-2)*(C11-E11)/(4-2) -> 210.5 | E11: 206 | F11: =G11+(5-4)*(E11-G11)/(6-4) -> 204.5 | G11: 203 | H11: =I11+(7-6)*(G11-I11)/(8-6) -> 202 | I11: 201 | J11: =K11+(9-8)*(I11-K11)/(10-8) -> 200 | K11: 199 | L11: =M11+(11-10)*(K11-M11)/(12-10) -> 198.5 | M11: 198
B12: 3000 | C12: 228 | D12: =E12+(3-2)*(C12-E12)/(4-2) -> 222 | E12: 216 | F12: =G12+(5-4)*(E12-G12)/(6-4) -> 214 | G12: 212 | H12: =I12+(7-6)*(G12-I12)/(8-6) -> 210 | I12: 208 | J12: =K12+(9-8)*(I12-K12)/(10-8) -> 206.5 | K12: 205 | L12: =M12+(11-10)*(K12-M12)/(12-10) -> 204 | M12: 203
B13: 4000 | C13: 256 | D13: =E13+(3-2)*(C13-E13)/(4-2) -> 247.5 | E13: 239 | F13: =G13+(5-4)*(E13-G13)/(6-4) -> 236.5 | G13: 234 | H13: =I13+(7-6)*(G13-I13)/(8-6) -> 231.5 | I13: 229 | J13: =K13+(9-8)*(I13-K13)/(10-8) -> 227 | K13: 225 | L13: =M13+(11-10)*(K13-M13)/(12-10) -> 224 | M13: 223
B14: 5000 | C14: 284 | D14: =E14+(3-2)*(C14-E14)/(4-2) -> 273.5 | E14: 263 | F14: =G14+(5-4)*(E14-G14)/(6-4) -> 259.5 | G14: 256 | H14: =I14+(7-6)*(G14-I14)/(8-6) -> 253.5 | I14: 251 | J14: =K14+(9-8)*(I14-K14)/(10-8) -> 248 | K14: 245 | L14: =M14+(11-10)*(K14-M14)/(12-10) -> 243.5 | M14: 242
B15: 6000 | C15: 312 | D15: =E15+(3-2)*(C15-E15)/(4-2) -> 299.5 | E15: 287 | F15: =G15+(5-4)*(E15-G15)/(6-4) -> 282.5 | G15: 278 | H15: =I15+(7-6)*(G15-I15)/(8-6) -> 275 | I15: 272 | J15: =K15+(9-8)*(I15-K15)/(10-8) -> 268.5 | K15: 265 | L15: =M15+(11-10)*(K15-M15)/(12-10) -> 263.5 | M15: 262
B16: 8000 | C16: 370 | D16: =E16+(3-2)*(C16-E16)/(4-2) -> 353.5 | E16: 337 | F16: =G16+(5-4)*(E16-G16)/(6-4) -> 331.5 | G16: 326 | H16: =I16+(7-6)*(G16-I16)/(8-6) -> 321.5 | I16: 317 | J16: =K16+(9-8)*(I16-K16)/(10-8) -> 312.5 | K16: 308 | L16: =M16+(11-10)*(K16-M16)/(12-10) -> 306 | M16: 304
B17: 10000 | C17: 426 | D17: =E17+(3-2)*(C17-E17)/(4-2) -> 405 | E17: 384 | F17: =G17+(5-4)*(E17-G17)/(6-4) -> 377 | G17: 370 | H17: =I17+(7-6)*(G17-I17)/(8-6) -> 364.5 | I17: 359 | J17: =K17+(9-8)*(I17-K17)/(10-8) -> 353.5 | K17: 348 | L17: =M17+(11-10)*(K17-M17)/(12-10) -> 345 | M17: 342
A18: в том числе тепловой энергии на отопление и вентиляцию | B18: 2000 | C18: 67 | D18: =E18+(3-2)*(C18-E18)/(4-2) -> 61.5 | E18: 56 | F18: =G18+(5-4)*(E18-G18)/(6-4) -> 50 | G18: 44 | H18: =I18+(7-6)*(G18-I18)/(8-6) -> 43 | I18: 42 | J18: =K18+(9-8)*(I18-K18)/(10-8) -> 41 | K18: 40 | L18: =M18+(11-10)*(K18-M18)/(12-10) -> 39.5 | M18: 39
B19: 3000 | C19: 100 | D19: =E19+(3-2)*(C19-E19)/(4-2) -> 91.5 | E19: 83 | F19: =G19+(5-4)*(E19-G19)/(6-4) -> 75 | G19: 67 | H19: =I19+(7-6)*(G19-I19)/(8-6) -> 65 | I19: 63 | J19: =K19+(9-8)*(I19-K19)/(10-8) -> 61.5 | K19: 60 | L19: =M19+(11-10)*(K19-M19)/(12-10) -> 59 | M19: 58
B20: 4000 | C20: 133 | D20: =E20+(3-2)*(C20-E20)/(4-2) -> 122 | E20: 111 | F20: =G20+(5-4)*(E20-G20)/(6-4) -> 100 | G20: 89 | H20: =I20+(7-6)*(G20-I20)/(8-6) -> 86.5 | I20: 84 | J20: =K20+(9-8)*(I20-K20)/(10-8) -> 82 | K20: 80 | L20: =M20+(11-10)*(K20-M20)/(12-10) -> 79 | M20: 78
B21: 5000 | C21: 167 | D21: =E21+(3-2)*(C21-E21)/(4-2) -> 153 | E21: 139 | F21: =G21+(5-4)*(E21-G21)/(6-4) -> 125 | G21: 111 | H21: =I21+(7-6)*(G21-I21)/(8-6) -> 108.5 | I21: 106 | J21: =K21+(9-8)*(I21-K21)/(10-8) -> 103 | K21: 100 | L21: =M21+(11-10)*(K21-M21)/(12-10) -> 98.5 | M21: 97
B22: 6000 | C22: 200 | D22: =E22+(3-2)*(C22-E22)/(4-2) -> 183.5 | E22: 167 | F22: =G22+(5-4)*(E22-G22)/(6-4) -> 150 | G22: 133 | H22: =I22+(7-6)*(G22-I22)/(8-6) -> 130 | I22: 127 | J22: =K22+(9-8)*(I22-K22)/(10-8) -> 123.5 | K22: 120 | L22: =M22+(11-10)*(K22-M22)/(12-10) -> 118.5 | M22: 117
B23: 8000 | C23: 253 | D23: =E23+(3-2)*(C23-E23)/(4-2) -> 232 | E23: 211 | F23: =G23+(5-4)*(E23-G23)/(6-4) -> 190 | G23: 169 | H23: =I23+(7-6)*(G23-I23)/(8-6) -> 164.5 | I23: 160 | J23: =K23+(9-8)*(I23-K23)/(10-8) -> 156 | K23: 152 | L23: =M23+(11-10)*(K23-M23)/(12-10) -> 150 | M23: 148
B24: 10000 | C24: 317 | D24: =E24+(3-2)*(C24-E24)/(4-2) -> 290.5 | E24: 264 | F24: =G24+(5-4)*(E24-G24)/(6-4) -> 237.5 | G24: 211 | H24: =I24+(7-6)*(G24-I24)/(8-6) -> 206 | I24: 201 | J24: =K24+(9-8)*(I24-K24)/(10-8) -> 195.5 | K24: 190 | L24: =M24+(11-10)*(K24-M24)/(12-10) -> 187.5 | M24: 185
A26: Наименование показателя | B26: °С сут. отопит. периода | C26: МИНИМУМ | I26: =SUM(C28:M34) -> 275 | J26: =SUM(C35:M41) -> 130
C27: 2 | D27: 3 | E27: 4 | F27: 5 | G27: 6 | H27: 7 | I27: 8 | J27: 9 | K27: 10 | L27: 11 | M27: 12
A28: Расход тепловой энергии на отопление, вентиляцию, горячее водоснабжение и электроэнергии на общедомовые нужды <*> | B28: 2000 | C28: =IF(AND($B$2=$C$27,$H$1=B28),C11,0) -> 0 | D28: =IF(AND($B$2=$D$27,$H$1=B28),D11,0) -> 0 | E28: =IF(AND($B$2=$E$27,$H$1=B28),E11,0) -> 0 | F28: =IF(AND($B$2=$F$27,$H$1=B28),F11,0) -> 0 | G28: =IF(AND($B$2=$G$27,$H$1=B28),G11,0) -> 0 | H28: =IF(AND($B$2=$H$27,$H$1=B28),H11,0) -> 0 | I28: =IF(AND($B$2=$I$27,$H$1=B28),I11,0) -> 0 | J28: =IF(AND($B$2=$J$27,$H$1=B28),J11,0) -> 0 | K28: =IF(AND($B$2=$K$27,$H$1=B28),K11,0) -> 0 | L28: =IF(AND($B$2=$L$27,$H$1=B28),L11,0) -> 0 | M28: =IF(AND($B$2>=$M$27,$H$1=B28),M11,0) -> 0
B29: 3000 | C29: =IF(AND($B$2=$C$27,$H$1=B29),C12,0) -> 0 | D29: =IF(AND($B$2=$D$27,$H$1=B29),D12,0) -> 0 | E29: =IF(AND($B$2=$E$27,$H$1=B29),E12,0) -> 0 | F29: =IF(AND($B$2=$F$27,$H$1=B29),F12,0) -> 0 | G29: =IF(AND($B$2=$G$27,$H$1=B29),G12,0) -> 0 | H29: =IF(AND($B$2=$H$27,$H$1=B29),H12,0) -> 0 | I29: =IF(AND($B$2=$I$27,$H$1=B29),I12,0) -> 0 | J29: =IF(AND($B$2=$J$27,$H$1=B29),J12,0) -> 0 | K29: =IF(AND($B$2=$K$27,$H$1=B29),K12,0) -> 0 | L29: =IF(AND($B$2=$L$27,$H$1=B29),L12,0) -> 0 | M29: =IF(AND($B$2>=$M$27,$H$1=B29),M12,0) -> 0
B30: 4000 | C30: =IF(AND($B$2=$C$27,$H$1=B30),C13,0) -> 0 | D30: =IF(AND($B$2=$D$27,$H$1=B30),D13,0) -> 0 | E30: =IF(AND($B$2=$E$27,$H$1=B30),E13,0) -> 0 | F30: =IF(AND($B$2=$F$27,$H$1=B30),F13,0) -> 0 | G30: =IF(AND($B$2=$G$27,$H$1=B30),G13,0) -> 0 | H30: =IF(AND($B$2=$H$27,$H$1=B30),H13,0) -> 0 | I30: =IF(AND($B$2=$I$27,$H$1=B30),I13,0) -> 0 | J30: =IF(AND($B$2=$J$27,$H$1=B30),J13,0) -> 0 | K30: =IF(AND($B$2=$K$27,$H$1=B30),K13,0) -> 0 | L30: =IF(AND($B$2=$L$27,$H$1=B30),L13,0) -> 0 | M30: =IF(AND($B$2>=$M$27,$H$1=B30),M13,0) -> 0
B31: 5000 | C31: =IF(AND($B$2=$C$27,$H$1=B31),C14,0) -> 0 | D31: =IF(AND($B$2=$D$27,$H$1=B31),D14,0) -> 0 | E31: =IF(AND($B$2=$E$27,$H$1=B31),E14,0) -> 0 | F31: =IF(AND($B$2=$F$27,$H$1=B31),F14,0) -> 0 | G31: =IF(AND($B$2=$G$27,$H$1=B31),G14,0) -> 0 | H31: =IF(AND($B$2=$H$27,$H$1=B31),H14,0) -> 0 | I31: =IF(AND($B$2=$I$27,$H$1=B31),I14,0) -> 0 | J31: =IF(AND($B$2=$J$27,$H$1=B31),J14,0) -> 0 | K31: =IF(AND($B$2=$K$27,$H$1=B31),K14,0) -> 0 | L31: =IF(AND($B$2=$L$27,$H$1=B31),L14,0) -> 0 | M31: =IF(AND($B$2>=$M$27,$H$1=B31),M14,0) -> 0
B32: 6000 | C32: =IF(AND($B$2=$C$27,$H$1=B32),C15,0) -> 0 | D32: =IF(AND($B$2=$D$27,$H$1=B32),D15,0) -> 0 | E32: =IF(AND($B$2=$E$27,$H$1=B32),E15,0) -> 0 | F32: =IF(AND($B$2=$F$27,$H$1=B32),F15,0) -> 0 | G32: =IF(AND($B$2=$G$27,$H$1=B32),G15,0) -> 0 | H32: =IF(AND($B$2=$H$27,$H$1=B32),H15,0) -> 275 | I32: =IF(AND($B$2=$I$27,$H$1=B32),I15,0) -> 0 | J32: =IF(AND($B$2=$J$27,$H$1=B32),J15,0) -> 0 | K32: =IF(AND($B$2=$K$27,$H$1=B32),K15,0) -> 0 | L32: =IF(AND($B$2=$L$27,$H$1=B32),L15,0) -> 0 | M32: =IF(AND($B$2>=$M$27,$H$1=B32),M15,0) -> 0
B33: 8000 | C33: =IF(AND($B$2=$C$27,$H$1=B33),C16,0) -> 0 | D33: =IF(AND($B$2=$D$27,$H$1=B33),D16,0) -> 0 | E33: =IF(AND($B$2=$E$27,$H$1=B33),E16,0) -> 0 | F33: =IF(AND($B$2=$F$27,$H$1=B33),F16,0) -> 0 | G33: =IF(AND($B$2=$G$27,$H$1=B33),G16,0) -> 0 | H33: =IF(AND($B$2=$H$27,$H$1=B33),H16,0) -> 0 | I33: =IF(AND($B$2=$I$27,$H$1=B33),I16,0) -> 0 | J33: =IF(AND($B$2=$J$27,$H$1=B33),J16,0) -> 0 | K33: =IF(AND($B$2=$K$27,$H$1=B33),K16,0) -> 0 | L33: =IF(AND($B$2=$L$27,$H$1=B33),L16,0) -> 0 | M33: =IF(AND($B$2>=$M$27,$H$1=B33),M16,0) -> 0
B34: 10000 | C34: =IF(AND($B$2=$C$27,$H$1=B34),C17,0) -> 0 | D34: =IF(AND($B$2=$D$27,$H$1=B34),D17,0) -> 0 | E34: =IF(AND($B$2=$E$27,$H$1=B34),E17,0) -> 0 | F34: =IF(AND($B$2=$F$27,$H$1=B34),F17,0) -> 0 | G34: =IF(AND($B$2=$G$27,$H$1=B34),G17,0) -> 0 | H34: =IF(AND($B$2=$H$27,$H$1=B34),H17,0) -> 0 | I34: =IF(AND($B$2=$I$27,$H$1=B34),I17,0) -> 0 | J34: =IF(AND($B$2=$J$27,$H$1=B34),J17,0) -> 0 | K34: =IF(AND($B$2=$K$27,$H$1=B34),K17,0) -> 0 | L34: =IF(AND($B$2=$L$27,$H$1=B34),L17,0) -> 0 | M34: =IF(AND($B$2>=$M$27,$H$1=B34),M17,0) -> 0
A35: в том числе тепловой энергии на отопление и вентиляцию | B35: 2000 | C35: =IF(AND($B$2=$C$27,$H$1=B35),C18,0) -> 0 | D35: =IF(AND($B$2=$D$27,$H$1=B35),D18,0) -> 0 | E35: =IF(AND($B$2=$E$27,$H$1=B35),E18,0) -> 0 | F35: =IF(AND($B$2=$F$27,$H$1=B35),F18,0) -> 0 | G35: =IF(AND($B$2=$G$27,$H$1=B35),G18,0) -> 0 | H35: =IF(AND($B$2=$H$27,$H$1=B35),H18,0) -> 0 | I35: =IF(AND($B$2=$I$27,$H$1=B35),I18,0) -> 0 | J35: =IF(AND($B$2=$J$27,$H$1=B35),J18,0) -> 0 | K35: =IF(AND($B$2=$K$27,$H$1=B35),K18,0) -> 0 | L35: =IF(AND($B$2=$L$27,$H$1=B35),L18,0) -> 0 | M35: =IF(AND($B$2>=$M$27,$H$1=B35),M18,0) -> 0
B36: 3000 | C36: =IF(AND($B$2=$C$27,$H$1=B36),C19,0) -> 0 | D36: =IF(AND($B$2=$D$27,$H$1=B36),D19,0) -> 0 | E36: =IF(AND($B$2=$E$27,$H$1=B36),E19,0) -> 0 | F36: =IF(AND($B$2=$F$27,$H$1=B36),F19,0) -> 0 | G36: =IF(AND($B$2=$G$27,$H$1=B36),G19,0) -> 0 | H36: =IF(AND($B$2=$H$27,$H$1=B36),H19,0) -> 0 | I36: =IF(AND($B$2=$I$27,$H$1=B36),I19,0) -> 0 | J36: =IF(AND($B$2=$J$27,$H$1=B36),J19,0) -> 0 | K36: =IF(AND($B$2=$K$27,$H$1=B36),K19,0) -> 0 | L36: =IF(AND($B$2=$L$27,$H$1=B36),L19,0) -> 0 | M36: =IF(AND($B$2>=$M$27,$H$1=B36),M19,0) -> 0
B37: 4000 | C37: =IF(AND($B$2=$C$27,$H$1=B37),C20,0) -> 0 | D37: =IF(AND($B$2=$D$27,$H$1=B37),D20,0) -> 0 | E37: =IF(AND($B$2=$E$27,$H$1=B37),E20,0) -> 0 | F37: =IF(AND($B$2=$F$27,$H$1=B37),F20,0) -> 0 | G37: =IF(AND($B$2=$G$27,$H$1=B37),G20,0) -> 0 | H37: =IF(AND($B$2=$H$27,$H$1=B37),H20,0) -> 0 | I37: =IF(AND($B$2=$I$27,$H$1=B37),I20,0) -> 0 | J37: =IF(AND($B$2=$J$27,$H$1=B37),J20,0) -> 0 | K37: =IF(AND($B$2=$K$27,$H$1=B37),K20,0) -> 0 | L37: =IF(AND($B$2=$L$27,$H$1=B37),L20,0) -> 0 | M37: =IF(AND($B$2>=$M$27,$H$1=B37),M20,0) -> 0
B38: 5000 | C38: =IF(AND($B$2=$C$27,$H$1=B38),C21,0) -> 0 | D38: =IF(AND($B$2=$D$27,$H$1=B38),D21,0) -> 0 | E38: =IF(AND($B$2=$E$27,$H$1=B38),E21,0) -> 0 | F38: =IF(AND($B$2=$F$27,$H$1=B38),F21,0) -> 0 | G38: =IF(AND($B$2=$G$27,$H$1=B38),G21,0) -> 0 | H38: =IF(AND($B$2=$H$27,$H$1=B38),H21,0) -> 0 | I38: =IF(AND($B$2=$I$27,$H$1=B38),I21,0) -> 0 | J38: =IF(AND($B$2=$J$27,$H$1=B38),J21,0) -> 0 | K38: =IF(AND($B$2=$K$27,$H$1=B38),K21,0) -> 0 | L38: =IF(AND($B$2=$L$27,$H$1=B38),L21,0) -> 0 | M38: =IF(AND($B$2>=$M$27,$H$1=B38),M21,0) -> 0
B39: 6000 | C39: =IF(AND($B$2=$C$27,$H$1=B39),C22,0) -> 0 | D39: =IF(AND($B$2=$D$27,$H$1=B39),D22,0) -> 0 | E39: =IF(AND($B$2=$E$27,$H$1=B39),E22,0) -> 0 | F39: =IF(AND($B$2=$F$27,$H$1=B39),F22,0) -> 0 | G39: =IF(AND($B$2=$G$27,$H$1=B39),G22,0) -> 0 | H39: =IF(AND($B$2=$H$27,$H$1=B39),H22,0) -> 130 | I39: =IF(AND($B$2=$I$27,$H$1=B39),I22,0) -> 0 | J39: =IF(AND($B$2=$J$27,$H$1=B39),J22,0) -> 0 | K39: =IF(AND($B$2=$K$27,$H$1=B39),K22,0) -> 0 | L39: =IF(AND($B$2=$L$27,$H$1=B39),L22,0) -> 0 | M39: =IF(AND($B$2>=$M$27,$H$1=B39),M22,0) -> 0
B40: 8000 | C40: =IF(AND($B$2=$C$27,$H$1=B40),C23,0) -> 0 | D40: =IF(AND($B$2=$D$27,$H$1=B40),D23,0) -> 0 | E40: =IF(AND($B$2=$E$27,$H$1=B40),E23,0) -> 0 | F40: =IF(AND($B$2=$F$27,$H$1=B40),F23,0) -> 0 | G40: =IF(AND($B$2=$G$27,$H$1=B40),G23,0) -> 0 | H40: =IF(AND($B$2=$H$27,$H$1=B40),H23,0) -> 0 | I40: =IF(AND($B$2=$I$27,$H$1=B40),I23,0) -> 0 | J40: =IF(AND($B$2=$J$27,$H$1=B40),J23,0) -> 0 | K40: =IF(AND($B$2=$K$27,$H$1=B40),K23,0) -> 0 | L40: =IF(AND($B$2=$L$27,$H$1=B40),L23,0) -> 0 | M40: =IF(AND($B$2>=$M$27,$H$1=B40),M23,0) -> 0
B41: 10000 | C41: =IF(AND($B$2=$C$27,$H$1=B41),C24,0) -> 0 | D41: =IF(AND($B$2=$D$27,$H$1=B41),D24,0) -> 0 | E41: =IF(AND($B$2=$E$27,$H$1=B41),E24,0) -> 0 | F41: =IF(AND($B$2=$F$27,$H$1=B41),F24,0) -> 0 | G41: =IF(AND($B$2=$G$27,$H$1=B41),G24,0) -> 0 | H41: =IF(AND($B$2=$H$27,$H$1=B41),H24,0) -> 0 | I41: =IF(AND($B$2=$I$27,$H$1=B41),I24,0) -> 0 | J41: =IF(AND($B$2=$J$27,$H$1=B41),J24,0) -> 0 | K41: =IF(AND($B$2=$K$27,$H$1=B41),K24,0) -> 0 | L41: =IF(AND($B$2=$L$27,$H$1=B41),L24,0) -> 0 | M41: =IF(AND($B$2>=$M$27,$H$1=B41),M24,0) -> 0
A43: Наименование показателя | B43: °С сут. отопит. периода | C43: МАКСИМУМ | I43: =SUM(C45:M51) -> 321.5 | J43: =SUM(C52:M58) -> 164.5
C44: 2 | D44: 3 | E44: 4 | F44: 5 | G44: 6 | H44: 7 | I44: 8 | J44: 9 | K44: 10 | L44: 11 | M44: 12
A45: Расход тепловой энергии на отопление, вентиляцию, горячее водоснабжение и электроэнергии на общедомовые нужды <*> | B45: 2000 | C45: =IF(AND($B$2=C$44,$H$2=B45),C11,0) -> 0 | D45: =IF(AND($B$2=D$44,$H$2=B45),D11,0) -> 0 | E45: =IF(AND($B$2=E$44,$H$2=$B45),E11,0) -> 0 | F45: =IF(AND($B$2=F$44,$H$2=$B45),F11,0) -> 0 | G45: =IF(AND($B$2=G$44,$H$2=$B45),G11,0) -> 0 | H45: =IF(AND($B$2=H$44,$H$2=$B45),H11,0) -> 0 | I45: =IF(AND($B$2=I$44,$H$2=$B45),I11,0) -> 0 | J45: =IF(AND($B$2=J$44,$H$2=$B45),J11,0) -> 0 | K45: =IF(AND($B$2=K$44,$H$2=$B45),K11,0) -> 0 | L45: =IF(AND($B$2=L$44,$H$2=$B45),L11,0) -> 0 | M45: =IF(AND($B$2>=M$44,$H$2=$B45),M11,0) -> 0
B46: 3000 | C46: =IF(AND($B$2=C$44,$H$2=B46),C12,0) -> 0 | D46: =IF(AND($B$2=D$44,$H$2=B46),D12,0) -> 0 | E46: =IF(AND($B$2=E$44,$H$2=$B46),E12,0) -> 0 | F46: =IF(AND($B$2=F$44,$H$2=$B46),F12,0) -> 0 | G46: =IF(AND($B$2=G$44,$H$2=$B46),G12,0) -> 0 | H46: =IF(AND($B$2=H$44,$H$2=$B46),H12,0) -> 0 | I46: =IF(AND($B$2=I$44,$H$2=$B46),I12,0) -> 0 | J46: =IF(AND($B$2=J$44,$H$2=$B46),J12,0) -> 0 | K46: =IF(AND($B$2=K$44,$H$2=$B46),K12,0) -> 0 | L46: =IF(AND($B$2=L$44,$H$2=$B46),L12,0) -> 0 | M46: =IF(AND($B$2>=M$44,$H$2=$B46),M12,0) -> 0
B47: 4000 | C47: =IF(AND($B$2=C$44,$H$2=B47),C13,0) -> 0 | D47: =IF(AND($B$2=D$44,$H$2=B47),D13,0) -> 0 | E47: =IF(AND($B$2=E$44,$H$2=$B47),E13,0) -> 0 | F47: =IF(AND($B$2=F$44,$H$2=$B47),F13,0) -> 0 | G47: =IF(AND($B$2=G$44,$H$2=$B47),G13,0) -> 0 | H47: =IF(AND($B$2=H$44,$H$2=$B47),H13,0) -> 0 | I47: =IF(AND($B$2=I$44,$H$2=$B47),I13,0) -> 0 | J47: =IF(AND($B$2=J$44,$H$2=$B47),J13,0) -> 0 | K47: =IF(AND($B$2=K$44,$H$2=$B47),K13,0) -> 0 | L47: =IF(AND($B$2=L$44,$H$2=$B47),L13,0) -> 0 | M47: =IF(AND($B$2>=M$44,$H$2=$B47),M13,0) -> 0
B48: 5000 | C48: =IF(AND($B$2=C$44,$H$2=B48),C14,0) -> 0 | D48: =IF(AND($B$2=D$44,$H$2=B48),D14,0) -> 0 | E48: =IF(AND($B$2=E$44,$H$2=$B48),E14,0) -> 0 | F48: =IF(AND($B$2=F$44,$H$2=$B48),F14,0) -> 0 | G48: =IF(AND($B$2=G$44,$H$2=$B48),G14,0) -> 0 | H48: =IF(AND($B$2=H$44,$H$2=$B48),H14,0) -> 0 | I48: =IF(AND($B$2=I$44,$H$2=$B48),I14,0) -> 0 | J48: =IF(AND($B$2=J$44,$H$2=$B48),J14,0) -> 0 | K48: =IF(AND($B$2=K$44,$H$2=$B48),K14,0) -> 0 | L48: =IF(AND($B$2=L$44,$H$2=$B48),L14,0) -> 0 | M48: =IF(AND($B$2>=M$44,$H$2=$B48),M14,0) -> 0
B49: 6000 | C49: =IF(AND($B$2=C$44,$H$2=B49),C15,0) -> 0 | D49: =IF(AND($B$2=D$44,$H$2=B49),D15,0) -> 0 | E49: =IF(AND($B$2=E$44,$H$2=$B49),E15,0) -> 0 | F49: =IF(AND($B$2=F$44,$H$2=$B49),F15,0) -> 0 | G49: =IF(AND($B$2=G$44,$H$2=$B49),G15,0) -> 0 | H49: =IF(AND($B$2=H$44,$H$2=$B49),H15,0) -> 0 | I49: =IF(AND($B$2=I$44,$H$2=$B49),I15,0) -> 0 | J49: =IF(AND($B$2=J$44,$H$2=$B49),J15,0) -> 0 | K49: =IF(AND($B$2=K$44,$H$2=$B49),K15,0) -> 0 | L49: =IF(AND($B$2=L$44,$H$2=$B49),L15,0) -> 0 | M49: =IF(AND($B$2>=M$44,$H$2=$B49),M15,0) -> 0
B50: 8000 | C50: =IF(AND($B$2=C$44,$H$2=B50),C16,0) -> 0 | D50: =IF(AND($B$2=D$44,$H$2=B50),D16,0) -> 0 | E50: =IF(AND($B$2=E$44,$H$2=$B50),E16,0) -> 0 | F50: =IF(AND($B$2=F$44,$H$2=$B50),F16,0) -> 0 | G50: =IF(AND($B$2=G$44,$H$2=$B50),G16,0) -> 0 | H50: =IF(AND($B$2=H$44,$H$2=$B50),H16,0) -> 321.5 | I50: =IF(AND($B$2=I$44,$H$2=$B50),I16,0) -> 0 | J50: =IF(AND($B$2=J$44,$H$2=$B50),J16,0) -> 0 | K50: =IF(AND($B$2=K$44,$H$2=$B50),K16,0) -> 0 | L50: =IF(AND($B$2=L$44,$H$2=$B50),L16,0) -> 0 | M50: =IF(AND($B$2>=M$44,$H$2=$B50),M16,0) -> 0
B51: 10000 | C51: =IF(AND($B$2=C$44,$H$2=B51),C17,0) -> 0 | D51: =IF(AND($B$2=D$44,$H$2=B51),D17,0) -> 0 | E51: =IF(AND($B$2=E$44,$H$2=$B51),E17,0) -> 0 | F51: =IF(AND($B$2=F$44,$H$2=$B51),F17,0) -> 0 | G51: =IF(AND($B$2=G$44,$H$2=$B51),G17,0) -> 0 | H51: =IF(AND($B$2=H$44,$H$2=$B51),H17,0) -> 0 | I51: =IF(AND($B$2=I$44,$H$2=$B51),I17,0) -> 0 | J51: =IF(AND($B$2=J$44,$H$2=$B51),J17,0) -> 0 | K51: =IF(AND($B$2=K$44,$H$2=$B51),K17,0) -> 0 | L51: =IF(AND($B$2=L$44,$H$2=$B51),L17,0) -> 0 | M51: =IF(AND($B$2>=M$44,$H$2=$B51),M17,0) -> 0
A52: в том числе тепловой энергии на отопление и вентиляцию | B52: 2000 | C52: =IF(AND($B$2=C$44,$H$2=B52),C18,0) -> 0 | D52: =IF(AND($B$2=D$44,$H$2=B52),D18,0) -> 0 | E52: =IF(AND($B$2=E$44,$H$2=$B52),E18,0) -> 0 | F52: =IF(AND($B$2=F$44,$H$2=$B52),F18,0) -> 0 | G52: =IF(AND($B$2=G$44,$H$2=$B52),G18,0) -> 0 | H52: =IF(AND($B$2=H$44,$H$2=$B52),H18,0) -> 0 | I52: =IF(AND($B$2=I$44,$H$2=$B52),I18,0) -> 0 | J52: =IF(AND($B$2=J$44,$H$2=$B52),J18,0) -> 0 | K52: =IF(AND($B$2=K$44,$H$2=$B52),K18,0) -> 0 | L52: =IF(AND($B$2=L$44,$H$2=$B52),L18,0) -> 0 | M52: =IF(AND($B$2>=M$44,$H$2=$B52),M18,0) -> 0
B53: 3000 | C53: =IF(AND($B$2=C$44,$H$2=B53),C19,0) -> 0 | D53: =IF(AND($B$2=D$44,$H$2=B53),D19,0) -> 0 | E53: =IF(AND($B$2=E$44,$H$2=$B53),E19,0) -> 0 | F53: =IF(AND($B$2=F$44,$H$2=$B53),F19,0) -> 0 | G53: =IF(AND($B$2=G$44,$H$2=$B53),G19,0) -> 0 | H53: =IF(AND($B$2=H$44,$H$2=$B53),H19,0) -> 0 | I53: =IF(AND($B$2=I$44,$H$2=$B53),I19,0) -> 0 | J53: =IF(AND($B$2=J$44,$H$2=$B53),J19,0) -> 0 | K53: =IF(AND($B$2=K$44,$H$2=$B53),K19,0) -> 0 | L53: =IF(AND($B$2=L$44,$H$2=$B53),L19,0) -> 0 | M53: =IF(AND($B$2>=M$44,$H$2=$B53),M19,0) -> 0
B54: 4000 | C54: =IF(AND($B$2=C$44,$H$2=B54),C20,0) -> 0 | D54: =IF(AND($B$2=D$44,$H$2=B54),D20,0) -> 0 | E54: =IF(AND($B$2=E$44,$H$2=$B54),E20,0) -> 0 | F54: =IF(AND($B$2=F$44,$H$2=$B54),F20,0) -> 0 | G54: =IF(AND($B$2=G$44,$H$2=$B54),G20,0) -> 0 | H54: =IF(AND($B$2=H$44,$H$2=$B54),H20,0) -> 0 | I54: =IF(AND($B$2=I$44,$H$2=$B54),I20,0) -> 0 | J54: =IF(AND($B$2=J$44,$H$2=$B54),J20,0) -> 0 | K54: =IF(AND($B$2=K$44,$H$2=$B54),K20,0) -> 0 | L54: =IF(AND($B$2=L$44,$H$2=$B54),L20,0) -> 0 | M54: =IF(AND($B$2>=M$44,$H$2=$B54),M20,0) -> 0
B55: 5000 | C55: =IF(AND($B$2=C$44,$H$2=B55),C21,0) -> 0 | D55: =IF(AND($B$2=D$44,$H$2=B55),D21,0) -> 0 | E55: =IF(AND($B$2=E$44,$H$2=$B55),E21,0) -> 0 | F55: =IF(AND($B$2=F$44,$H$2=$B55),F21,0) -> 0 | G55: =IF(AND($B$2=G$44,$H$2=$B55),G21,0) -> 0 | H55: =IF(AND($B$2=H$44,$H$2=$B55),H21,0) -> 0 | I55: =IF(AND($B$2=I$44,$H$2=$B55),I21,0) -> 0 | J55: =IF(AND($B$2=J$44,$H$2=$B55),J21,0) -> 0 | K55: =IF(AND($B$2=K$44,$H$2=$B55),K21,0) -> 0 | L55: =IF(AND($B$2=L$44,$H$2=$B55),L21,0) -> 0 | M55: =IF(AND($B$2>=M$44,$H$2=$B55),M21,0) -> 0
B56: 6000 | C56: =IF(AND($B$2=C$44,$H$2=B56),C22,0) -> 0 | D56: =IF(AND($B$2=D$44,$H$2=B56),D22,0) -> 0 | E56: =IF(AND($B$2=E$44,$H$2=$B56),E22,0) -> 0 | F56: =IF(AND($B$2=F$44,$H$2=$B56),F22,0) -> 0 | G56: =IF(AND($B$2=G$44,$H$2=$B56),G22,0) -> 0 | H56: =IF(AND($B$2=H$44,$H$2=$B56),H22,0) -> 0 | I56: =IF(AND($B$2=I$44,$H$2=$B56),I22,0) -> 0 | J56: =IF(AND($B$2=J$44,$H$2=$B56),J22,0) -> 0 | K56: =IF(AND($B$2=K$44,$H$2=$B56),K22,0) -> 0 | L56: =IF(AND($B$2=L$44,$H$2=$B56),L22,0) -> 0 | M56: =IF(AND($B$2>=M$44,$H$2=$B56),M22,0) -> 0
B57: 8000 | C57: =IF(AND($B$2=C$44,$H$2=B57),C23,0) -> 0 | D57: =IF(AND($B$2=D$44,$H$2=B57),D23,0) -> 0 | E57: =IF(AND($B$2=E$44,$H$2=$B57),E23,0) -> 0 | F57: =IF(AND($B$2=F$44,$H$2=$B57),F23,0) -> 0 | G57: =IF(AND($B$2=G$44,$H$2=$B57),G23,0) -> 0 | H57: =IF(AND($B$2=H$44,$H$2=$B57),H23,0) -> 164.5 | I57: =IF(AND($B$2=I$44,$H$2=$B57),I23,0) -> 0 | J57: =IF(AND($B$2=J$44,$H$2=$B57),J23,0) -> 0 | K57: =IF(AND($B$2=K$44,$H$2=$B57),K23,0) -> 0 | L57: =IF(AND($B$2=L$44,$H$2=$B57),L23,0) -> 0 | M57: =IF(AND($B$2>=M$44,$H$2=$B57),M23,0) -> 0
B58: 10000 | C58: =IF(AND($B$2=C$44,$H$2=B58),C24,0) -> 0 | D58: =IF(AND($B$2=D$44,$H$2=B58),D24,0) -> 0 | E58: =IF(AND($B$2=E$44,$H$2=$B58),E24,0) -> 0 | F58: =IF(AND($B$2=F$44,$H$2=$B58),F24,0) -> 0 | G58: =IF(AND($B$2=G$44,$H$2=$B58),G24,0) -> 0 | H58: =IF(AND($B$2=H$44,$H$2=$B58),H24,0) -> 0 | I58: =IF(AND($B$2=I$44,$H$2=$B58),I24,0) -> 0 | J58: =IF(AND($B$2=J$44,$H$2=$B58),J24,0) -> 0 | K58: =IF(AND($B$2=K$44,$H$2=$B58),K24,0) -> 0 | L58: =IF(AND($B$2=L$44,$H$2=$B58),L24,0) -> 0 | M58: =IF(AND($B$2>=M$44,$H$2=$B58),M24,0) -> 0

Sheet Лист4
A1: Республика, край, область, пункт | H1: Республика Адыгея | I1: Алтайский край
B2: £ 8 °С | H2: 1 | I2: 2 | J2: 3 | K2: 4 | L2: 5 | M2: 6 | N2: 7 | O2: 8 | P2: 9 | Q2: 10 | R2: 11 | S2: 12 | T2: 13 | U2: 14 | V2: 15 | W2: 16 | X2: 17 | Y2: 18 | Z2: 19 | AA2: 20 | AB2: 21 | AC2: 22 | AD2: 23 | AE2: 24 | AF2: 25 | AG2: 26 | AH2: 27 | AI2: 28 | AJ2: 29 | AK2: 30 | AL2: 31 | AM2: 32 | AN2: 33 | AO2: 34 | AP2: 35 | AQ2: 36 | AR2: 37 | AS2: 38 | AT2: 39 | AU2: 40 | AV2: 41 | AW2: 42 | AX2: 43 | AY2: 44 | AZ2: 45 | BA2: 46 | BB2: 47 | BC2: 48 | BD2: 49 | BE2: 50 | BF2: 51 | BG2: 52 | BH2: 53 | BI2: 54 | BJ2: 55 | BK2: 56 | BL2: 57 | BM2: 58 | BN2: 59 | BO2: 60 | BP2: 61 | BQ2: 62 | BR2: 63 | BS2: 64 | BT2: 65 | BU2: 66 | BV2: 67 | BW2: 68 | BX2: 69 | BY2: 70 | BZ2: 71 | CA2: 72 | CB2: 73 | CC2: 74 | CD2: 75 | CE2: 76
B3: продолжительность | C3: средняя температура | H3: Майкоп | I3: Алейск | J3: Архара | K3: Архангельск | L3: Астрахань | M3: Белорецк | N3: Белгород | O3: Брянск | P3: Бабушкин | Q3: Владимир | R3: Волгоград | S3: Бабаево | T3: Воронеж | U3: Дербент | V3: Иваново | W3: Алыгджер | X3: Нальчик | Y3: Калининград | Z3: Элиста | AA3: Калуга | AB3: Апука - Корякский АО | AC3: Черкесск | AD3: Кемь | AE3: Кемерово | AF3: Вятка | AG3: Вендинга | AH3: Кострома | AI3: Красная Поляна | AJ3: Агата | AK3: Курган | AL3: Курск | AM3: Липецк | AN3: Санкт-Петербург | AO3: Аркагала | AP3: Йошкар-Ола | AQ3: Саранск | AR3: Дмитров | AS3: Вайда-Губа | AT3: Арзамас | AU3: Боровичи | AV3: Барабинск | AW3: Исиль-Куль | AX3: Кувандык | AY3: Орел | AZ3: Земетчино | BA3: Бисер | BB3: Агзу | BC3: Великие Луки | BD3: Миллерово | BE3: Рязань | BF3: Самара | BG3: Александров Гай | BH3: Александровск-Сахалинский | BI3: Верхотурье | BJ3: Владикавказ | BK3: Вязьма | BL3: Арзгир | BM3: Тамбов | BN3: Бугульма | BO3: Бежецк | BP3: Александровское | BQ3: Кызыл | BR3: Тула | BS3: Березово - Ханты-Мансийский АО | BT3: Глазов | BU3: Сурское | BV3: Аян | BW3: Абакан | BX3: Верхнеуральск | BY3: Грозный | BZ3: Агинское | CA3: Порецкое | CB3: Анадырь | CC3: Алдан | CD3: Варандей | CE3: Ярославль
F4: Республика Адыгея | G4: 1 | I4: Барнаул | J4: Белогорск | K4: Борковская | L4: Верхний Баскунчак | M4: Дуван | P4: Баргузин | Q4: Муром | R4: Камышин | S4: Вологда | U4: Махачкала | V4: Кинешма | W4: Бодайбо | AB4: Ича - Корякский АО | AD4: Лоухи | AE4: Киселевск | AF4: Нагорское | AG4: Воркута | AH4: Чухлома | AI4: Краснодар | AJ4: Ачинск | AN4: Свирица | AO4: Брохово | AR4: Кашира | AS4: Кандалакша | AT4: Выкса | AU4: Великий Новгород | AV4: Болотное | AW4: Омск | AX4: Оренбург | AZ4: Пенза | BA4: Ножовка | BB4: Анучино | BC4: Псков | BD4: Ростов-на-Дону | BG4: Балашов | BH4: Долинск | BI4: Екатеринбург | BK4: Смоленск | BL4: Кисловодск | BN4: Елабуга | BO4: Ржев | BP4: Колпашево | BS4: Демьянское | BT4: Ижевск | BU4: Ульяновск | BV4: Байдуков | BW4: Шира | BX4: Нязепетровск | BZ4: Акша | CA4: Чебоксары | CB4: Березово | CC4: Аллах-Юнь | CD4: Индига
A5: 1 | B5: 11 | C5: 12 | F5: Республика Алтай | G5: 2 | I5: Беля | J5: Благовещенск | K5: Емецк | M5: Мелеуз | P5: Багдарин | R5: Костычевка | S5: Вытегра | U5: Южно-Сухокумск | W5: Братск | AB5: Ключи | AD5: Олонец | AE5: Кондома | AF5: Савали | AG5: Объячево | AH5: Шарья | AI5: Приморско-Ахтарск | AJ5: Байкит - Эвенкийский АО | AN5: Тихвин | AO5: Магадан (Нагаева, бухта) | AR5: Москва | AS5: Ковдор | AT5: Нижний Новгород | AV5: Карасук | AW5: Тара | AX5: Сорочинск | BA5: Пермь | BB5: Астраханка | BD5: Таганрог | BG5: Саратов | BH5: Кировское | BI5: Ивдель | BL5: Невинномысск | BN5: Казань | BO5: Тверь | BP5: Средний Васюган | BS5: Кондинское - Ханты-Мансийский АО | BT5: Сарапул | BV5: Бикин | BX5: Челябинск | BZ5: Александровский Завод | CB5: Марково | CC5: Амга | CD5: Канин Нос
A6: РОССИЙСКАЯ ФЕДЕРАЦИЯ | F6: Амурская область | G6: 3 | I6: Бийск-Зональная | J6: Бомнак | K6: Койнас | M6: Уфа | P6: Кяхта | R6: Котельниково | S6: Никольск | W6: Верхняя Гутара | AB6: Козыревск | AD6: Паданы | AE6: Мариинск | AG6: Петрунь | AI6: Сочи | AJ6: Боготол | AO6: Омсукчан | AS6: Краснощелье | AV6: Кочки | AW6: Черлак | BA6: Чердынь | BB6: Богополь | BH6: Корсаков | BI6: Каменск-Уральский | BL6: Пятигорск | BP6: Томск | BS6: Леуши | BV6: Бира | BZ6: Борзя | CB6: Омолон | CC6: Батамай | CD6: Коткино
A7: Республика Адыгея | F7: Архангельская область | G7: 4 | I7: Змеиногорск | J7: Братолюбовка | K7: Котлас | M7: Янаул | P7: Монды | R7: Новоаннинский | S7: Тотьма | W7: Дубровское | AB7: Корф - Корякский АО | AD7: Петрозаводск | AE7: Тайга | AG7: Печора | AI7: Тихорецк | AJ7: Богучаны | AO7: Палатка | AS7: Ловозеро | AV7: Купино | BB7: Владивосток | BH7: Курильск | BI7: Туринск | BL7: Ставрополь | BP7: Усть-Озерное | BS7: Марресаля | BV7: Биробиджан | BZ7: Дарасун | CB7: Островное | CC7: Бердигястях | CD7: Нарьян-Мар
A8: Майкоп | B8: 148 | C8: 2.3 | D8: =(20-C8)*B8 -> 2619.6 | F8: Астраханская область | G8: 5 | I8: Катанда | J8: Бысса | K8: Мезень | P8: Нижнеангарск | R8: Эльтон | W8: Ербогачен | AB8: Лопатка, мыс | AD8: Реболы | AE8: Тисуль | AG8: Сыктывкар | AJ8: Ванавара - Эвенкийский АО | AO8: Среднекан | AS8: Мончегорск | AV8: Кыштовка | BB8: Дальнереченск | BH8: Макаров | BI8: Шамары | BS8: Надым | BV8: Вяземский | BZ8: Калакан | CB8: Усть-Олой | CC8: Буяга | CD8: Ходовариха
A9: Алтайский край | F9: Республика Башкортостан | G9: 6 | I9: Кош-Агач | J9: Гош | K9: Онега | P9: Сосново-Озерское | W9: Жигалово | AB9: Мильково | AD9: Сортавала | AE9: Топки | AG9: Троицко-Печорск | AJ9: Вельмо | AO9: Сусуман | AS9: Мурманск | AV9: Новосибирск | BB9: Кировский | BH9: Невельск | BS9: Октябрьское | BV9: Гвасюги | BZ9: Красный Чикой | CB9: Эньмувеем | CC9: Верхоянск | CD9: Хоседа-Хард
A10: Республика Алтай | D10: =(20-C10)*B10 -> 0 | F10: Белгородская область | G10: 7 | I10: Онгудай | J10: Дамбуки | P10: Уакит | W10: Зима | AB10: Начики | AE10: Усть-Кабырза | AG10: Усть-Уса | AJ10: Верхнеимбатск | AS10: Ниванкюль | AV10: Татарск | BB10: Красный Яр | BH10: Ноглики | BS10: Салехард | BV10: Гроссевичи | BZ10: Могоча | CC10: Вилюйск
A11: Алейск | B11: 216 | C11: -7.8 | D11: =(20-C11)*B11 -> 6004.8 | F11: Брянская область | G11: 8 | I11: Родино | J11: Ерофей Павлович | P11: Улан-Удэ | W11: Ика | AB11: о. Беринга | AG11: Усть-Цильма | AJ11: Волочанка | AS11: Пулозеро | AV11: Чулым | BB11: Маргаритово | BH11: Оха | BS11: Сосьва | BV11: Де-Кастри | BZ11: Нерчинск | CC11: Витим
A12: Барнаул | B12: 213 | C12: -7.5 | D12: =(20-C12)*B12 -> 5857.5 | F12: Республика Бурятия | G12: 9 | I12: Рубцовск | J12: Завитинск | P12: Хоринск | W12: Илимск | AB12: Оссора - Корякский АО | AG12: Усть-Щугор | AJ12: Диксон - Таймырский АО | AS12: Пялица | BB12: Мельничное | BH12: Погиби | BS12: Сургут - Ханты-Мансийский АО | BV12: Джаорэ | BZ12: Нерчинский Завод | CC12: Воронцово
A13: Беля | B13: 223 | C13: -2.7 | D13: =(20-C13)*B13 -> 5062.1 | F13: Владимирская область | G13: 10 | I13: Славгород | J13: Зея | W13: Иркутск | AB13: Петропавловск-Камчатский | AG13: Ухта | AJ13: Дудинка - Таймырский АО | AS13: Териберка | BB13: Партизанск | BH13: Поронайск | BS13: Тарко-Сале - Ямало-Ненецкий АО | BV13: Екатерино-Никольское | BZ13: Средний Калар | CC13: Джалинда
A14: Бийск-Зональная | B14: 213 | C14: -7.6 | D14: =(20-C14)*B14 -> 5878.8 | F14: Волгоградская область | G14: 11 | I14: Тогул | J14: Норский Склад | W14: Ичера | AB14: Семлячики | AJ14: Енисейск | AS14: Терско-Орловский | BB14: Посьет | BH14: Рыбновск | BS14: Тобольск | BV14: Комсомольск-на-Амуре | BZ14: Тунгокочен | CC14: Джарджан
A15: Змеиногорск | B15: 211 | C15: -6.7 | D15: =(20-C15)*B15 -> 5633.7 | F15: Вологодская область | G15: 12 | J15: Огорон | W15: Киренск | AB15: Соболево | AJ15: Ессей- Эвенкийский АО | AS15: Умба | BB15: Преображение | BH15: Холмск | BS15: Тюмень | BV15: Нижнетамбовское | BZ15: Тупик | CC15: Джикимда
A16: Катанда | B16: 237 | C16: -9.2 | D16: =(20-C16)*B16 -> 6920.4 | F16: Воронежская область | G16: 13 | J16: Поярково | W16: Мама | AB16: Кроноки | AJ16: Игарка | AS16: Юкспор | BB16: Рудная Пристань | BH16: Южно-Курильск | BS16: Угут | BV16: Николаевск-на-Амуре | BZ16: Чара | CC16: Дружина
A17: Кош-Агач | B17: 256 | C17: -12 | D17: =(20-C17)*B17 -> 8192 | F17: Республика Дагестан | G17: 14 | J17: Свободный | W17: Марково | AB17: Ука | AJ17: Канск | BB17: Сосуново | BH17: Южно-Сахалинск | BS17: Уренгой - Ямало-Ненецкий АО | BV17: Облучье | BZ17: Чита | CC17: Екючю
A18: Онгудай | B18: 231 | C18: -8.3 | D18: =(20-C18)*B18 -> 6537.3 | F18: Ивановская область | G18: 15 | J18: Сковородино | W18: Наканно | AB18: Октябрьская | AJ18: Кежма | BB18: Чугуевка | BS18: Ханты-Мансийск - Ханты-Мансийский АО | BV18: Охотск | CC18: Жиганск
A19: Родино | B19: 215 | C19: -8.1 | D19: =(20-C19)*B19 -> 6041.5 | F19: Иркутская область | G19: 16 | J19: Средняя Нюкжа | W19: Невон | AB19: Усть-Воямполка - Корякский АО | AJ19: Ключи | BV19: Им. Полины Осипенко | CC19: Зырянка
A20: Рубцовск | B20: 206 | C20: -7.9 | D20: =(20-C20)*B20 -> 5747.4 | F20: Кабардино-Балкарская Республика | G20: 17 | J20: Тыган-Уркан | W20: Непа | AB20: Усть-Камчатск | AJ20: Красноярск | BV20: Сизиман | CC20: Исить
A21: Славгород | B21: 206 | C21: -8.8 | D21: =(20-C21)*B21 -> 5932.8 | F21: Калининградская область | G21: 18 | J21: Тында | W21: Орлинга | AB21: Усть-Хайрюзово | AJ21: Минусинск | BV21: Советская Гавань | CC21: Иэма
A22: Тогул | B22: 225 | C22: -7.3 | D22: =(20-C22)*B22 -> 6142.5 | F22: Республика Калмыкия | G22: 19 | J22: Унаха | W22: Перевоз | AJ22: Таимба | BV22: Софийский Прииск | CC22: Крест-Хальджай
A23: Амурская область | D23: =(20-C23)*B23 -> 0 | F23: Калужская область | G23: 20 | J23: Усть-Нюкжа | W23: Преображенка | AJ23: Троицкое | BV23: Средний Ургал | CC23: Кюсюр
A24: Архара | B24: 211 | C24: -12.7 | D24: =(20-C24)*B24 -> 6899.7 | F24: Камчатская область | G24: 21 | J24: Черняево | W24: Саянск | AJ24: Тура - Эвенкийский АО | BV24: Троицкое | CC24: Ленcк
A25: Белогорск | B25: 223 | C25: -11.9 | D25: =(20-C25)*B25 -> 7113.7 | F25: Карачаево-Черкесская Республика | G25: 22 | J25: Шимановск | W25: Слюдянка | AJ25: Туруханск | BV25: Хабаровск | CC25: Нагорный
A26: Благовещенск | B26: 210 | C26: -10.7 | D26: =(20-C26)*B26 -> 6447 | F26: Республика Карелия | G26: 23 | J26: Экимчан | W26: Тайшет | AJ26: Хатанга - Таймырский АО | BV26: Чумикан | CC26: Нера
A27: Бомнак | B27: 240 | C27: -14.7 | D27: =(20-C27)*B27 -> 8328 | F27: Кемеровская область | G27: 24 | W27: Тулун | AJ27: Челюскин, мыс - Таймырский АО | BV27: Энкэн | CC27: Нюрба
A28: Братолюбовка | B28: 229 | C28: -12.4 | D28: =(20-C28)*B28 -> 7419.6 | F28: Кировская область | G28: 25 | W28: Усть-Ордынский - Усть-Ордынский Бурятский АО | AJ28: Ярцево | CC28: Нюя
A29: Бысса | B29: 236 | C29: -13.6 | D29: =(20-C29)*B29 -> 7929.6 | F29: Республика Коми | G29: 26 | CC29: Оймякон
A30: Гош | B30: 233 | C30: -14 | D30: =(20-C30)*B30 -> 7922 | F30: Костромская область | G30: 27 | CC30: Олекминск
A31: Дамбуки | B31: 244 | C31: -14.3 | D31: =(20-C31)*B31 -> 8369.2 | F31: Краснодарский край | G31: 28 | CC31: Оленек
A32: Ерофей Павлович | B32: 245 | C32: -12.7 | D32: =(20-C32)*B32 -> 8011.5 | F32: Красноярский край | G32: 29 | CC32: Охотский Перевоз
A33: Завитинск | B33: 226 | C33: -11.8 | D33: =(20-C33)*B33 -> 7186.8 | F33: Курганская область | G33: 30 | CC33: Сангар
A34: Зея | B34: 238 | C34: -13.8 | D34: =(20-C34)*B34 -> 8044.4 | F34: Курская область | G34: 31 | CC34: Саскылах
A35: Норский Склад | B35: 232 | C35: -14.3 | D35: =(20-C35)*B35 -> 7957.6 | F35: Липецкая область | G35: 32 | CC35: Среднеколымск
A36: Огорон | B36: 247 | C36: -13.3 | D36: =(20-C36)*B36 -> 8225.1 | F36: Ленинградская область | G36: 33 | CC36: Сунтар
A37: Поярково | B37: 222 | C37: -11.9 | D37: =(20-C37)*B37 -> 7081.8 | F37: Магаданская область | G37: 34 | CC37: Сухана
A38: Свободный | B38: 229 | C38: -12.4 | D38: =(20-C38)*B38 -> 7419.6 | F38: Республика Марий Эл | G38: 35 | CC38: Сюльдюкар
A39: Сковородино | B39: 245 | C39: -13.7 | D39: =(20-C39)*B39 -> 8256.5 | F39: Республика Мордовия | G39: 36 | CC39: Сюрен-Кюель
A40: Средняя Нюкжа | B40: 262 | C40: -16.1 | D40: =(20-C40)*B40 -> 9458.2 | F40: Московская область | G40: 37 | CC40: Токо
... A47: Экимчан | B47: 249 | C47: -14.4 | D47: =(20-C47)*B47 -> 8565.6 | F47: Орловская область | G47: 44 | CC47: Усть-Мома
A48: Архангельская область | D48: =(20-C48)*B48 -> 0 | F48: Пензенская область | G48: 45 | CC48: Чульман
A49: Архангельск | B49: 250 | C49: -4.5 | D49: =(20-C49)*B49 -> 6125 | F49: Пермская область | G49: 46 | CC49: Чурапча
A50: Борковская | B50: 277 | C50: -6.6 | D50: =(20-C50)*B50 -> 7368.2 | F50: Приморский край | G50: 47 | CC50: Шелагонцы
A51: Емецк | B51: 249 | C51: -4.7 | D51: =(20-C51)*B51 -> 6150.3 | F51: Псковская область | G51: 48 | CC51: Эйк
A52: Койнас | B52: 262 | C52: -6.2 | D52: =(20-C52)*B52 -> 6864.4 | F52: Ростовская область | G52: 49 | CC52: Якутск
A53: Котлас | B53: 237 | C53: -5 | D53: =(20-C53)*B53 -> 5925 | F53: Рязанская область | G53: 50
A54: Мезень | B54: 268 | C54: -5.3 | D54: =(20-C54)*B54 -> 6780.4 | F54: Самарская область | G54: 51
A55: Онега | B55: 243 | C55: -4 | D55: =(20-C55)*B55 -> 5832 | F55: Саратовская область | G55: 52
A56: Астраханская область | D56: =(20-C56)*B56 -> 0 | F56: Сахалинская область | G56: 53
A57: Астрахань | B57: 164 | C57: -0.8 | D57: =(20-C57)*B57 -> 3411.2 | F57: Свердловская область | G57: 54
A58: Верхний Баскунчак | B58: 174 | C58: -2.5 | D58: =(20-C58)*B58 -> 3915 | F58: Республика Северная Осетия - Алания | G58: 55
A59: Республика Башкортостан | D59: =(20-C59)*B59 -> 0 | F59: Смоленская область | G59: 56
A60: Белорецк | B60: 231 | C60: -6.5 | D60: =(20-C60)*B60 -> 6121.5 | F60: Ставропольский край | G60: 57
A61: Дуван | B61: 224 | C61: -6 | D61: =(20-C61)*B61 -> 5824 | F61: Тамбовская область | G61: 58
A62: Мелеуз | B62: 210 | C62: -6.4 | D62: =(20-C62)*B62 -> 5544 | F62: Республика Татарстан | G62: 59
A63: Уфа | B63: 209 | C63: -6 | D63: =(20-C63)*B63 -> 5434 | F63: Тверская область | G63: 60
A64: Янаул | B64: 218 | C64: -6.1 | D64: =(20-C64)*B64 -> 5689.8 | F64: Томская область | G64: 61
A65: Белгородская область | D65: =(20-C65)*B65 -> 0 | F65: Республика Тыва | G65: 62
A66: Белгород | B66: 191 | C66: -1.9 | D66: =(20-C66)*B66 -> 4182.9 | F66: Тульская область | G66: 63
A67: Брянская область | D67: =(20-C67)*B67 -> 0 | F67: Тюменская область | G67: 64
A68: Брянск | B68: 199 | C68: -2 | D68: =(20-C68)*B68 -> 4378 | F68: Удмуртская Республика | G68: 65
A69: Республика Бурятия | D69: =(20-C69)*B69 -> 0 | F69: Ульяновская область | G69: 66
A70: Бабушкин | B70: 250 | C70: -5.5 | D70: =(20-C70)*B70 -> 6375 | F70: Хабаровский край | G70: 67
A71: Баргузин | B71: 240 | C71: -11.7 | D71: =(20-C71)*B71 -> 7608 | F71: Республика Хакассия | G71: 68
A72: Багдарин | B72: 261 | C72: -13.4 | D72: =(20-C72)*B72 -> 8717.4 | F72: Челябинская область | G72: 69
A73: Кяхта | B73: 229 | C73: -8.7 | D73: =(20-C73)*B73 -> 6572.3 | F73: Чеченская Республика | G73: 70
A74: Монды | B74: 266 | C74: -8.1 | D74: =(20-C74)*B74 -> 7474.6 | F74: Читинская область | G74: 71
A75: Нижнеангарск | B75: 255 | C75: -9.6 | D75: =(20-C75)*B75 -> 7548 | F75: Чувашская Республика | G75: 72
A76: Сосново-Озерское | B76: 258 | C76: -10.5 | D76: =(20-C76)*B76 -> 7869 | F76: Чукотский АО (Магаданская область) | G76: 73
A77: Уакит | B77: 274 | C77: -12.7 | D77: =(20-C77)*B77 -> 8959.8 | F77: Республика Саха (Якутия) | G77: 74
A78: Улан-Удэ | B78: 230 | C78: -10.3 | D78: =(20-C78)*B78 -> 6969 | F78: Ненецкий АО (Архангельская область) | G78: 75
A79: Хоринск | B79: 241 | C79: -10.8 | D79: =(20-C79)*B79 -> 7422.8 | F79: Ярославская область | G79: 76
A80: Владимирская область | D80: =(20-C80)*B80 -> 0
A81: Владимир | B81: 213 | C81: -3.5 | D81: =(20-C81)*B81 -> 5005.5
A82: Муром | B82: 214 | C82: -4 | D82: =(20-C82)*B82 -> 5136
A83: Волгоградская область | D83: =(20-C83)*B83 -> 0
A84: Волгоград | B84: 176 | C84: -2.3 | D84: =(20-C84)*B84 -> 3924.8
A85: Камышин | B85: 188 | C85: -4.1 | D85: =(20-C85)*B85 -> 4530.8
A86: Костычевка | B86: 190 | C86: -3.9 | D86: =(20-C86)*B86 -> 4541
A87: Котельниково | B87: 176 | C87: -1.6 | D87: =(20-C87)*B87 -> 3801.6
A88: Новоаннинский | B88: 191 | C88: -3.4 | D88: =(20-C88)*B88 -> 4469.4
A89: Эльтон | B89: 177 | C89: -3.2 | D89: =(20-C89)*B89 -> 4106.4
A90: Вологодская область | D90: =(20-C90)*B90 -> 0
A91: Бабаево | B91: 231 | C91: -3.8 | D91: =(20-C91)*B91 -> 5497.8
A92: Вологда | B92: 228 | C92: -4 | D92: =(20-C92)*B92 -> 5472
A93: Вытегра | B93: 230 | C93: -3.4 | D93: =(20-C93)*B93 -> 5382
A94: Никольск | B94: 231 | C94: -4.7 | D94: =(20-C94)*B94 -> 5705.7
A95: Тотьма | B95: 232 | C95: -4.5 | D95: =(20-C95)*B95 -> 5684
A96: Воронежская область | D96: =(20-C96)*B96 -> 0
A97: Воронеж | B97: 190 | C97: -2.5 | D97: =(20-C97)*B97 -> 4275
A98: Республика Дагестан | D98: =(20-C98)*B98 -> 0
A99: Дербент | B99: 138 | C99: 3.7 | D99: =(20-C99)*B99 -> 2249.4
A100: Махачкала | B100: 144 | C100: 2.7 | D100: =(20-C100)*B100 -> 2491.2
A101: Южно-Сухокумск | B101: 162 | C101: 0.8 | D101: =(20-C101)*B101 -> 3110.4
A102: Ивановская область | D102: =(20-C102)*B102 -> 0
A103: Иваново | B103: 219 | C103: -3.9 | D103: =(20-C103)*B103 -> 5234.1
A104: Кинешма | B104: 221 | C104: -4.1 | D104: =(20-C104)*B104 -> 5326.1
A105: Иркутская область | D105: =(20-C105)*B105 -> 0
A106: Алыгджер | B106: 264 | C106: -6.4 | D106: =(20-C106)*B106 -> 6969.6
...

Sheet Лист3
A1: КЛАССЫ ЭНЕРГЕТИЧЕСКОЙ ЭФФЕКТИВНОСТИ
A3: Обозначение класса энергетической эффективности | B3: Наименование класса энергетической эффективности | C3: Величина отклонения значения фактического удельного годового расхода энергетических ресурсов от базового уровня, %
A4: А++ | B4: Высочайший | C4: - 60 включительно и менее
A5: А+ | B5: Высочайший | C5: от - 50 включительно до - 60
A6: А | B6: Очень высокий | C6: от - 40 включительно до - 50
A7: В | B7: Высокий | C7: от - 30 включительно до - 40
A8: С | B8: Повышенный | C8: от - 15 включительно до - 30
A9: D | B9: Нормальный | C9: от 0 включительно до - 15
A10: Е | B10: Пониженный | C10: от + 25 включительно до 0
A11: F | B11: Низкий | C11: от + 50 включительно до +25
A12: G | B12: Очень низкий | C12: более + 50
B17: -60
